BEGIN:VCALENDAR
VERSION:2.0
PRODID:-//CompARTE Alicante · Asociación Cultural - ECPv5.3.2.1//NONSGML v1.0//EN
CALSCALE:GREGORIAN
METHOD:PUBLISH
X-WR-CALNAME:CompARTE Alicante · Asociación Cultural
X-ORIGINAL-URL:https://www.compartealicante.com
X-WR-CALDESC:Eventos para CompARTE Alicante · Asociación Cultural
BEGIN:VTIMEZONE
TZID:Europe/Madrid
BEGIN:DAYLIGHT
TZOFFSETFROM:+0100
TZOFFSETTO:+0200
TZNAME:CEST
DTSTART:20240331T010000
END:DAYLIGHT
BEGIN:STANDARD
TZOFFSETFROM:+0200
TZOFFSETTO:+0100
TZNAME:CET
DTSTART:20241027T010000
END:STANDARD
END:VTIMEZONE
BEGIN:VEVENT
DTSTART;TZID=Europe/Madrid:20240517T193000
DTEND;TZID=Europe/Madrid:20240517T233000
DTSTAMP:20260421T082437
CREATED:20240511T103821Z
LAST-MODIFIED:20240511T134213Z
UID:5715-1715974200-1715988600@www.compartealicante.com
SUMMARY:Sesión de cine a propuesta de socia con la película 'La mujer de Tchaikovsky' de Kirill Serebrennikov
DESCRIPTION:[vc_row][vc_column width=»1/2″][vc_column_text]El próximo viernes 17 de mayo a las 19:30h. tenemos el placer de presentar una sesión de cine presentado por socia que en este caso lo hará nuestra socia y amiga María José Serralta\, quien nos presentará la película Zhena Chaikovskogo (La mujer de Tchaikovsky) en V.O.S. en ruso\,  del director Kirill Serebrennikov. \nAl finalizar la sesión tendremos un debate  mientras disfrutamos de una cena compartida\, donde cada participante puede llevar lo que desee.[/vc_column_text][vc_column_text] \nZhena Chaikovskogo (La mujer de Tchaikovsky) \nAÑO: 2022\nDURACIÓN: 143 min\nDIRECTOR: Kirill Serebrennikov\nGUION: Kirill Serebrennikov\nMÚSICA: Daniil Orlov\nFOTOGRAFÍA: Vladislav Opelyants\nINTÉRPRETES: ALYONA MIKHAILOVA\,ODIN LUND BIRON\, FILIPP AVDEEV\, EKATERINA ERMISHINA\, NATALYA PAYLENKOVA.\nSINOPSIS: Uno de los grandes tabús de la historia de Rusia: la homosexualidad de Tchaikovsky: en pleno siglo XIX\, una joven acomodada antonina Miliukova se casa con Tchaikovsky que la rechaza de forma vehemente. Antonina será capaz de soportarlo todo con tal de permanecer a su lado.\nCALIFICACIONES: (FA/IMDb/) 7\,00 (Filmaffinity); 6\,3 (IMDb); \nRazones por las que ver «La mujer de Tchaikovsky» : \n\nUna historia apasionante: Es una historia conmovedora que explora temas como el amor no correspondido\, la presión social y la lucha por la identidad.\nUn retrato de la Rusia del siglo XIX: La película ofrece una mirada fascinante a la sociedad rusa del siglo XIX\, con sus rígidos códigos sociales y las dificultades que enfrentaban las mujeres. Serebrennikov crea una atmósfera opresiva y decadente que refleja la realidad de la época.\nUna gran interpretación de Alyona Mikhailova: La actriz Alyona Mikhailova ofrece una interpretación magistral de Antonina Miliukova. Captura a la perfección la complejidad del personaje\, su fragilidad emocional y su determinación.\nLa dirección de Kirill Serebrennikov: Serebrennikov es un director aclamado por su trabajo innovador y provocador. En «La mujer de Tchaikovsky»\, utiliza un estilo visual elegante y una narrativa no lineal para crear una experiencia cinematográfica única.\n\nEn resumen\, «La mujer de Tchaikovsky» es una película poderosa y conmovedora que te atrapará desde el principio.  \nBonus: La película también ha sido elogiada por su banda sonora\, que incluye la música de Tchaikovsky interpretada por la Orquesta Filarmónica de Viena. \nCOMENTARIOS DE Mª JOSÉ SERRALTA SOBRE LA PELÍCULA \nPelícula compleja que refleja la historia del matrimonio de Pyotr Tchaikovsky con su esposa Antonina. Su decisión de casarse con ella le sirvió para acallar los rumores de homosexualidad. Posteriormente cuando decide separarse de ella\, devastó a la joven y ella terminó abocada a la más absoluta locura. \n¡INSCRÍBETE Y NO TE LA PIERDAS! \n[/vc_column_text][/vc_column][vc_column width=»1/2″][vc_column_text]ROGAMOS MÁXIMA PUNTUALIDAD \nApertura de puertas a las 19:10h\nInicio del evento a las 19:30h[/vc_column_text][vc_column_text]EVENTO GRATUITO[/vc_column_text][vc_column_text]IMPRESCINDIBLE RESERVAR:[/vc_column_text]\n\n    \n    \n      \n      \n        \n  \n\n\n\n\n\n\n\n\n\n\n\n\n\n\nHe leído y acepto la política de privacidad de Asociación CompARTE\n\n \n        \n\n    \n    \n\n   [/vc_column][/vc_row]
URL:https://www.compartealicante.com/evento/sesion-de-cine-a-propuesta-de-socia-con-la-pelicula-la-mujer-de-tchaikovsky-de-kirill-serebrennikov/
CATEGORIES:Cine,Cine comentado
ATTACH;FMTTYPE=image/png:https://www.compartealicante.com/wp-content/uploads/2024/05/cartel-de-la-pelicula-la-mujer-de-Tchaikovsky-1.png
END:VEVENT
END:VCALENDAR