BEGIN:VCALENDAR
VERSION:2.0
PRODID:-//CompARTE Alicante · Asociación Cultural - ECPv5.3.2.1//NONSGML v1.0//EN
CALSCALE:GREGORIAN
METHOD:PUBLISH
X-WR-CALNAME:CompARTE Alicante · Asociación Cultural
X-ORIGINAL-URL:https://www.compartealicante.com
X-WR-CALDESC:Eventos para CompARTE Alicante · Asociación Cultural
BEGIN:VTIMEZONE
TZID:Europe/Madrid
BEGIN:DAYLIGHT
TZOFFSETFROM:+0100
TZOFFSETTO:+0200
TZNAME:CEST
DTSTART:20240331T010000
END:DAYLIGHT
BEGIN:STANDARD
TZOFFSETFROM:+0200
TZOFFSETTO:+0100
TZNAME:CET
DTSTART:20241027T010000
END:STANDARD
END:VTIMEZONE
BEGIN:VEVENT
DTSTART;TZID=Europe/Madrid:20240216T200000
DTEND;TZID=Europe/Madrid:20240216T233000
DTSTAMP:20260423T144235
CREATED:20240212T203018Z
LAST-MODIFIED:20240212T203018Z
UID:5288-1708113600-1708126200@www.compartealicante.com
SUMMARY:Sesión de cine a propuesta de socio con la película 'La gata sobre el tejado de zinc' de Richard Brooks
DESCRIPTION:[vc_row][vc_column width=»1/2″][vc_column_text]El próximo viernes 16 de febrero a las 20:00h. tenemos el placer de presentar una sesión de cine presentado por socio que en este caso lo hará nuestra socia y amiga Eva Rubio\, quien nos presentará la película Cat on a Hot Tin Roof (La gata sobre el tejado de zinc) en V.O.S. en inglés\,  del director Richard Brooks. \nAl finalizar la sesión tendremos un debate  mientras disfrutamos de una cena compartida\, donde cada participante puede llevar lo que desee.[/vc_column_text][vc_column_text] \nCAT ON A HOT TIN ROOF (La gata sobre el tejado de zinc) \nAÑO: 1958\nDURACIÓN: 108 min\nDIRECTOR: Richard Brooks\nGUION: Richard Brooks\, James Poe. Obra: Tennessee Williams\nMÚSICA: Charles Wolcott\nFOTOGRAFÍA: William H. Daniels\nINTÉRPRETES: Elizabeth Taylor\, Paul Newman\, Burl Ives\, Jack Carson\, Judith Anderson\, Madeleine Sherwood\, Vaughn Taylor\, Larry Gates.\nSINOPSIS: La inminente muerte del anciano patriarca de una acomodada familia sureña crea una gran tensión ambiental. Uno de sus hijos\, Brick\, indeciso y apático\, se refugia en el alcohol y se muestra completamente indiferente ante la situación\, pero Maggie\, su mujer\, no está dispuesta a contemplar impasible su destrucción. El otro hijo\, Gooper\, al igual que su esposa\, es ambicioso y oportunista. (FILMAFFINITY)\nCALIFICACIONES: (FA/IMDb/) 8\,00 (Filmaffinity); 7\,9 (IMDb); \n  \n¡INSCRÍBETE Y NO TE LA PIERDAS! \n[/vc_column_text][/vc_column][vc_column width=»1/2″][vc_column_text]ROGAMOS MÁXIMA PUNTUALIDAD \nApertura de puertas a las 19:45h\nInicio del evento a las 20:00h[/vc_column_text][vc_column_text]EVENTO GRATUITO \n*Si no recibes confirmación en las 24 horas siguientes al envío del formulario de contacto\, por favor haz tu petición directamente a compartealicante@gmail.com[/vc_column_text][vc_column_text]IMPRESCINDIBLE RESERVAR:[/vc_column_text]\n\n    \n    \n      \n      \n        \n  \n\n\n\n\n\n\n\n\n\n\n\n\n\n\nHe leído y acepto la política de privacidad de Asociación CompARTE\n\n \n        \n\n    \n    \n\n   [/vc_column][/vc_row]
URL:https://www.compartealicante.com/evento/sesion-de-cine-a-propuesta-de-socio-con-la-pelicula-la-gata-sobre-el-tejado-de-zinc-de-richard-brooks/
CATEGORIES:Cine,Cine comentado
ATTACH;FMTTYPE=image/png:https://www.compartealicante.com/wp-content/uploads/2024/02/lagatasobreeltejado-1.png
END:VEVENT
END:VCALENDAR