BEGIN:VCALENDAR
VERSION:2.0
PRODID:-//CompARTE Alicante · Asociación Cultural - ECPv5.3.2.1//NONSGML v1.0//EN
CALSCALE:GREGORIAN
METHOD:PUBLISH
X-WR-CALNAME:CompARTE Alicante · Asociación Cultural
X-ORIGINAL-URL:https://www.compartealicante.com
X-WR-CALDESC:Eventos para CompARTE Alicante · Asociación Cultural
BEGIN:VTIMEZONE
TZID:Europe/Madrid
BEGIN:DAYLIGHT
TZOFFSETFROM:+0100
TZOFFSETTO:+0200
TZNAME:CEST
DTSTART:20230326T010000
END:DAYLIGHT
BEGIN:STANDARD
TZOFFSETFROM:+0200
TZOFFSETTO:+0100
TZNAME:CET
DTSTART:20231029T010000
END:STANDARD
END:VTIMEZONE
BEGIN:VEVENT
DTSTART;TZID=Europe/Madrid:20230505T193000
DTEND;TZID=Europe/Madrid:20230505T220000
DTSTAMP:20260420T225034
CREATED:20230502T181229Z
LAST-MODIFIED:20230502T181229Z
UID:4392-1683315000-1683324000@www.compartealicante.com
SUMMARY:Sesión de cine a propuesta de socio con la película Spider de David Cronnenberg
DESCRIPTION:[vc_row][vc_column width=»1/2″][vc_column_text]El próximo viernes 5 de mayo a las 19:30h. tenemos el placer de presentar una sesión de cine presentado por socio con el título ESQUIZOFRENIA (=MENTE ESCINDIDA) que en este caso lo hará nuestra socia y amiga Mª José Serralta\, quien nos presentará la película Spider en V.O.S. en inglés\,  del director David Cronnenberg\, al finalizar la proyección podremos comentar la película y el tema propuesto.[/vc_column_text][vc_column_text] \nSPIDER  \nAÑO:2002\nDURACIÓN: 98 min\nDIRECTOR: David Cronnenberg\nGUION: Patrick McGrath\nMÚSICA: Howard Shore\nFOTOGRAFÍA: Peter Suschitzky\nREPARTO: Ralph Fiennes\, Miranda Richardson\, Gabriel Byrne\, Lynn Redgrave\, John Neville\, Bradley Hall\, Gary Reineke\, Philip Craig\, Cliff Saunders\, Tara Ellis\, etd.\nSINOPSIS: Ambientada en los años 60 en Londres\, «Spider» Cleg (Ralph Fiennes) sale de alta después de permanecer durante décadas en un sanatorio por causa de su esquizofrenia. Se refugia en una pensión dirigida por la Sra. Wilkinson y se hace amigo de un residente\, Spider lucha por descifrar los recuerdos turbios de un “Trauma“ infantil que involucra a su padre abusivo (Gabriel Byrne)\, a su adorada madre (Miranda Richardson) y una prostituta que pretende reemplazarla. \nCALIFICACIONES: (FA/IMDb/otros) :The Guardian: «una adaptación meticulosamente dirigida\, hermosamente elaborada y genialmente interpretada de la novela original de Patrick McGrath. IMDb: 7/10\nMEJOR PELÍCULA 2022 FESTIVAL DE TORONTO\nMEJOR DIRECTOR CANADIAN GENIE AWARDS 2002\nFestival de Cannes: Nominada a la Palma de Oro (mejor película)\n2002 Festival de cine fantástico de Sitges: Mejor Director\n2002: Premios del Cine Europeo: Premio del público mejor actor (Fiennes) \n¡INSCRÍBETE Y NO TE LA PIERDAS! \n[/vc_column_text][/vc_column][vc_column width=»1/2″][vc_column_text]ROGAMOS MÁXIMA PUNTUALIDAD \nApertura de puertas a las 19:15h\nInicio del evento a las 19:30h[/vc_column_text][vc_column_text]EVENTO GRATUITO \nAforo: 18 – 20 personas[/vc_column_text][vc_column_text]IMPRESCINDIBLE RESERVAR:[/vc_column_text]\n\n    \n    \n      \n      \n        \n  \n\n\n\n\n\n\n\n\n\n\n\n\n\n\nHe leído y acepto la política de privacidad de Asociación CompARTE\n\n \n        \n\n    \n    \n\n   [/vc_column][/vc_row]
URL:https://www.compartealicante.com/evento/sesion-de-cine-a-propuesta-de-socio-con-la-pelicula-spider-de-david-cronnenberg/
CATEGORIES:Ciclo De Cine,Cine,Cine comentado
ATTACH;FMTTYPE=image/jpeg:https://www.compartealicante.com/wp-content/uploads/2023/05/SPIDER-2.jpg
END:VEVENT
END:VCALENDAR