BEGIN:VCALENDAR
VERSION:2.0
PRODID:-//CompARTE Alicante · Asociación Cultural - ECPv5.3.2.1//NONSGML v1.0//EN
CALSCALE:GREGORIAN
METHOD:PUBLISH
X-WR-CALNAME:CompARTE Alicante · Asociación Cultural
X-ORIGINAL-URL:https://www.compartealicante.com
X-WR-CALDESC:Eventos para CompARTE Alicante · Asociación Cultural
BEGIN:VTIMEZONE
TZID:Europe/Madrid
BEGIN:DAYLIGHT
TZOFFSETFROM:+0100
TZOFFSETTO:+0200
TZNAME:CEST
DTSTART:20240331T010000
END:DAYLIGHT
BEGIN:STANDARD
TZOFFSETFROM:+0200
TZOFFSETTO:+0100
TZNAME:CET
DTSTART:20241027T010000
END:STANDARD
END:VTIMEZONE
BEGIN:VEVENT
DTSTART;TZID=Europe/Madrid:20240126T193000
DTEND;TZID=Europe/Madrid:20240126T220000
DTSTAMP:20260425T215135
CREATED:20240122T112904Z
LAST-MODIFIED:20240122T112904Z
UID:5214-1706297400-1706306400@www.compartealicante.com
SUMMARY:Sesión de cine a propuesta de socio con la película The Maltese Falcon de John Houston
DESCRIPTION:[vc_row][vc_column width=»1/2″][vc_column_text]El próximo viernes 26 de enero a las 19:30h. tenemos el placer de presentar una sesión de cine presentado por socio que en este caso lo hará nuestro socio y amigo Paco Colomina\, quien nos presentará la película ‘The Maltese Falcon’ en V.O.S. en inglés\,  del director John Houston\, al finalizar la proyección podremos comentar la película.[/vc_column_text][vc_column_text] \nTHE MALTESE FALCON (EL HALCÓN MALTÉS) \nAÑO:1941\nDURACIÓN: 101 min\nDIRECTOR – GUION: John Houston basado en la novela de Dashiel Hammet.¡\nLENGUA (V.O.S.): Inglés subtitulada.\nMÚSICA: Adolph Deutsch\nFOTOGRAFÍA: Eric Guichard\nINTÉRPRETES: Humphrey Bogart\, Mary Astor\, Peter Lorre\, Sydney Greenstreet\, Elisha Cook\, Jr. \nSINOPSIS: \nEl detective privado Sam Spade investiga una serie de asesinatos cometidos tras el robo de una valiosa joya histórica en forma de halcón.\nClásica adaptación de la novela de Dhasiel Hammet marca un antes y un después en la historia del cine: 1ª película que dirige John Houston y el papel definitivo para Bogart tras varios años contratado por la Warne \nCALIFICACIONES: (FA/IMDb/otros) 8 (Filmaffinity); 7\,5 – Tres nominaciones a los Oscars de 1942: Mejor película\, mejor guion y mejor actor secundario a Sydney Greenstreet. \nCOMENTARIOS DE PACO COLOMINA SOBRE LA PELÍCULA \nCon un presupuesto de 381.000 dólares\, el film se transformó en uno de los más rentables de la historia: gran guion de John Houston a partir de la novela de Hammet. La película consigue un magistral retrato del universo del detective Sam Spade. \n  \n¡INSCRÍBETE Y NO TE LA PIERDAS! \n[/vc_column_text][/vc_column][vc_column width=»1/2″][vc_column_text]ROGAMOS MÁXIMA PUNTUALIDAD \nApertura de puertas a las 19:15h\nInicio del evento a las 19:30h[/vc_column_text][vc_column_text]EVENTO GRATUITO[/vc_column_text][vc_column_text]IMPRESCINDIBLE RESERVAR:[/vc_column_text]\n\n    \n    \n      \n      \n        \n  \n\n\n\n\n\n\n\n\n\n\n\n\n\n\nHe leído y acepto la política de privacidad de Asociación CompARTE\n\n \n        \n\n    \n    \n\n   [/vc_column][/vc_row]
URL:https://www.compartealicante.com/evento/sesion-de-cine-a-propuesta-de-socio-con-la-pelicula-the-maltese-falcon-de-john-houston/
CATEGORIES:Cine,Cine comentado
ATTACH;FMTTYPE=image/png:https://www.compartealicante.com/wp-content/uploads/2024/01/el-halcon-maltes-2.png
END:VEVENT
END:VCALENDAR