BEGIN:VCALENDAR
VERSION:2.0
PRODID:-//CompARTE Alicante · Asociación Cultural - ECPv5.3.2.1//NONSGML v1.0//EN
CALSCALE:GREGORIAN
METHOD:PUBLISH
X-WR-CALNAME:CompARTE Alicante · Asociación Cultural
X-ORIGINAL-URL:https://www.compartealicante.com
X-WR-CALDESC:Eventos para CompARTE Alicante · Asociación Cultural
BEGIN:VTIMEZONE
TZID:Europe/Madrid
BEGIN:DAYLIGHT
TZOFFSETFROM:+0100
TZOFFSETTO:+0200
TZNAME:CEST
DTSTART:20250330T010000
END:DAYLIGHT
BEGIN:STANDARD
TZOFFSETFROM:+0200
TZOFFSETTO:+0100
TZNAME:CET
DTSTART:20251026T010000
END:STANDARD
END:VTIMEZONE
BEGIN:VEVENT
DTSTART;TZID=Europe/Madrid:20250615T193000
DTEND;TZID=Europe/Madrid:20250615T223000
DTSTAMP:20260424T175223
CREATED:20250606T110828Z
LAST-MODIFIED:20250606T110828Z
UID:7468-1750015800-1750026600@www.compartealicante.com
SUMMARY:Sesión de cine comentado con la película 'Perfect days' de Wim Wenders
DESCRIPTION:[vc_row][vc_column width=»1/2″][vc_column_text]El próximo domingo 15 de junio a las 19:30h. tenemos el placer de presentar una sesión de cine comentado con la película «Perfect days» del director Wim Wenders. La presentación la hará  nuestra querida amiga y vocal de la asociación Kika Colom. Tras la proyección\, disfrutaremos de un animado coloquio.[/vc_column_text][vc_column_text] \nPERFECT DAYS \nAÑO: 2023\nDURACIÓN: 120 min\nDIRECTOR: Wim Wenders\nGUION: Takuma Takasaki\, Wim Wenders\nVOS: Japonés\nFOTOGRAFÍA: Franz Lustig\nINTÉRPRETES: Kôji Yakusho; Tokio Emoto; Arisa Nakano\nDESCRIPCIÓN: La película trata de la vida sencilla de Hirayama\, un hombre que trabaja como limpiador de baños públicos en Tokio. Lleva una vida muy sencilla y ordenada con la que parece feliz. Disfruta de escuchar música en su camioneta y le gusta leer y observar los árboles.\nEl relato que hace la película es como la vida de Hirayama\, silencioso\, sencillo y contemplativo. Pero una banda sonora inesperada y muy reconocible\, y los encuentros y desencuentros con la escasa gente con la que se relaciona\, hacen que cambie el ritmo y aparezca tensión y drama. \n14 premios y 48 nominaciones (incluido Óscar) \nCALIFICACIONES: (FA/IMDb/) 7\,40(Filmaffinity); 7\,90 (IMDb); 7\,60 (RT); 72/100 (Metacritic) \nCOMENTARIOS DE KIKA COLOM SOBRE LA PELÍCULA \nSe puede decir que la película es una pequeña joya narrativa\, muy\ncinematográfica porque narra más con la imagen y el sonido que con\npalabras.\nEs una reflexión sobre la importancia de lo intrascendente\, y sobre la\nbelleza de lo efímero. Para ilustrarlo varios comentaristas han usado la\nfrase de la poeta Edna St. Vincent Millay: En un mundo de momentos\nfugaces\, encuentra la belleza que perdura. \n  \n¡INSCRÍBETE Y NO TE LA PIERDAS! \n[/vc_column_text][/vc_column][vc_column width=»1/2″][vc_column_text]ROGAMOS MÁXIMA PUNTUALIDAD \nApertura de puertas a las 19:15h\nInicio del evento a las 19:30h[/vc_column_text][vc_column_text]EVENTO GRATUITO \n[/vc_column_text][vc_column_text]IMPRESCINDIBLE RESERVAR:[/vc_column_text]\n\n    \n    \n      \n      \n        \n  \n\n\n\n\n\n\n\n\n\n\n\n\n\n\nHe leído y acepto la política de privacidad de Asociación CompARTE\n\n \n        \n\n    \n    \n\n   [/vc_column][/vc_row]
URL:https://www.compartealicante.com/evento/sesion-de-cine-comentado-con-la-pelicula-perfect-days-de-wim-wenders/
LOCATION:SEDE ASOCIACIÓN compARTE – SALA TOLÓN TELL ON\, Carrer Gastón Castelló\, 4\, El Campello\, Alicante\, 03560\, España
CATEGORIES:Cine,Cine comentado
ATTACH;FMTTYPE=image/png:https://www.compartealicante.com/wp-content/uploads/2025/06/cartel-de-la-pelicula-perfect-days-cine-comentado-2-1.png
END:VEVENT
END:VCALENDAR