BEGIN:VCALENDAR
VERSION:2.0
PRODID:-//CompARTE Alicante · Asociación Cultural - ECPv5.3.2.1//NONSGML v1.0//EN
CALSCALE:GREGORIAN
METHOD:PUBLISH
X-WR-CALNAME:CompARTE Alicante · Asociación Cultural
X-ORIGINAL-URL:https://www.compartealicante.com
X-WR-CALDESC:Eventos para CompARTE Alicante · Asociación Cultural
BEGIN:VTIMEZONE
TZID:Europe/Madrid
BEGIN:DAYLIGHT
TZOFFSETFROM:+0100
TZOFFSETTO:+0200
TZNAME:CEST
DTSTART:20220327T010000
END:DAYLIGHT
BEGIN:STANDARD
TZOFFSETFROM:+0200
TZOFFSETTO:+0100
TZNAME:CET
DTSTART:20221030T010000
END:STANDARD
END:VTIMEZONE
BEGIN:VEVENT
DTSTART;TZID=Europe/Madrid:20220916T210000
DTEND;TZID=Europe/Madrid:20220916T230000
DTSTAMP:20260421T055252
CREATED:20220909T144742Z
LAST-MODIFIED:20220909T172745Z
UID:3812-1663362000-1663369200@www.compartealicante.com
SUMMARY:Sesión de cine con la película Alcarrás de Carla Simón
DESCRIPTION:[vc_row][vc_column width=»1/2″][vc_column_text]El próximo viernes 16 de septiembre a las 21:00h\, tenemos una sesión de cine  en sala con la película Alcarràs dirigida por Carla Simón\, la presentación correrá a cargo de nuestro amigo Adrià Carbonell.[/vc_column_text][vc_single_image image=»3813″ img_size=»Medium» alignment=»center»][vc_column_text] \n\nTítulo original: Alcarrás\nDirección: Carla Simón\nAño: 2022\nDuración: 120 min.\nPaís: España\nMúsica: Andrea Koch\nGénero: Drama| Familia | Vida rural\n\nComo cada caluroso verano en Alcarrás\, el pueblo destaca por la gran cosecha de melocotones que consiguen sus habitantes. Para la familia Solé\, sin embargo\, las cosas han cambiado este año. Un día\, los integrantes de esta familia se despiertan para descubrir que algunos tractores están arrancando sus árboles. Tras la partida del patriarca de la familia\, el acuerdo que tenía con el antiguo propietario de la tierra podría estar desactualizado. Ante esta amenaza\, tanto los niños como los adultos Solé se reunirán para cosechar sus melocotones por última vez (Sensacine) \nOso de Oro en Berlín este año 2022 y aclamada en numerosos festivales. seleccionada para representar a España en los premios Oscar como mejor película de habla no inglesa. Considerada de las mejores películas españolas de la historia y del siglo XXI (ranking Filmaffinity) \nSólo faltáis vosotr@s. Os esperamos el 16 de septiembre. \n¡NO TE QUEDES SIN TU PLAZA\, RESERVA YA! \n[/vc_column_text][/vc_column][vc_column width=»1/2″][vc_column_text]ROGAMOS MÁXIMA PUNTUALIDAD \nApertura de puertas a las 20:40h \nInicio del evento a las 21:00h[/vc_column_text][vc_column_text]Aportación socios: GRATUITO\nGeneral: GRATUITO[/vc_column_text][vc_column_text]IMPRESCINDIBLE RESERVAR:[/vc_column_text]\n\n    \n    \n      \n      \n        \n  \n\n\n\n\n\n\n\n\n\n\n\n\n\n\nHe leído y acepto la política de privacidad de Asociación CompARTE\n\n \n        \n\n    \n    \n\n   [/vc_column][/vc_row]
URL:https://www.compartealicante.com/evento/sesion-de-cine-con-la-pelicula-alcarras-de-carla-simon/
CATEGORIES:Cine,Cine comentado
ATTACH;FMTTYPE=image/jpeg:https://www.compartealicante.com/wp-content/uploads/2022/09/Cine-en-Alcarras.jpg
END:VEVENT
END:VCALENDAR