BEGIN:VCALENDAR
VERSION:2.0
PRODID:-//CompARTE Alicante · Asociación Cultural - ECPv5.3.2.1//NONSGML v1.0//EN
CALSCALE:GREGORIAN
METHOD:PUBLISH
X-WR-CALNAME:CompARTE Alicante · Asociación Cultural
X-ORIGINAL-URL:https://www.compartealicante.com
X-WR-CALDESC:Eventos para CompARTE Alicante · Asociación Cultural
BEGIN:VTIMEZONE
TZID:Europe/Madrid
BEGIN:DAYLIGHT
TZOFFSETFROM:+0100
TZOFFSETTO:+0200
TZNAME:CEST
DTSTART:20220327T010000
END:DAYLIGHT
BEGIN:STANDARD
TZOFFSETFROM:+0200
TZOFFSETTO:+0100
TZNAME:CET
DTSTART:20221030T010000
END:STANDARD
END:VTIMEZONE
BEGIN:VEVENT
DTSTART;TZID=Europe/Madrid:20221007T200000
DTEND;TZID=Europe/Madrid:20221007T230000
DTSTAMP:20260421T005442
CREATED:20221005T182006Z
LAST-MODIFIED:20221005T182006Z
UID:3916-1665172800-1665183600@www.compartealicante.com
SUMMARY:Sesión de cine con la película Gato Negro\, Gato Blanco del director Emir Kusturica
DESCRIPTION:[vc_row][vc_column width=»1/2″][vc_column_text]El próximo viernes 7 de octubre a las 20:00 h. proyectaremos la película «Gato negro\, gato blanco» (Crna macka\, beli macor (Black Cat\, White Cat)) del director Emir Kusturica\, esta película estará presentada y comentada por nuestro socio Gabriel Mirelman.[/vc_column_text][vc_single_image image=»3917″ img_size=»full» alignment=»center» style=»vc_box_border» border_color=»black»][vc_column_text] \nGATO NEGRO GATO BLANCO- Crna macka\, beli macor (Black Cat\, White Cat)- 123′\n«Grga Pitic\, un mafioso gitano que controla los vertederos de basura\, y Zarije\, el orgulloso propietario de unas obras de cemento\, son amigos desde la infancia. Ahora tienen ochenta años\, han sobrevivido juntos a todo tipo de aventuras y se profesan un profundo respeto. Estando Zarije en el hospital\, su hijo Matka acude a Grga para pedirle dinero. Él y su socio Dada lo necesitan para hacer un gran negocio vendiendo petróleo en el mercado negro. Pero las cosas salen mal y\, entonces\, Dada amenaza de muerte a Matka si no consigue que su hijo se case con su única hermana soltera. Pero\, naturalmente\, el chico está enamorado de otra.».[/vc_column_text][vc_column_text][/vc_column_text][vc_column_text] \n\nDIRECTOR: Emir Kusturica (1998) Serbia\, Francia y Alemania\nGUIÓN: E. Kusturica; Gordan Mihić.\nMÚSICA: Nele Karajlić\, Voja Aralica y Dejo Sparavalo\nREPARTO: Bajram Severdzan\, Branka Katic\, Florijan Ajdini\, Jasar Destani\, Zabit Mehmedov\, Srdjan Todorovic\, Salija Ibraimova\, Stojan Sotirov\, Sabri Sulejmani.\nGENERO: Comedia romántica\n\n[/vc_column_text][/vc_column][vc_column width=»1/2″][vc_column_text]ROGAMOS MÁXIMA PUNTUALIDAD \nSesión de cine en interior \nApertura de puertas a las 19:40h\nInicio del evento a las 20:00h[/vc_column_text][vc_column_text]Actividad Gratuita. Plazas limitadas. \nActividad para socios/as y posibles acompañantes (previa inscripción por correo electrónico). \n[/vc_column_text][vc_column_text]IMPRESCINDIBLE RESERVAR:[/vc_column_text]\n\n    \n    \n      \n      \n        \n  \n\n\n\n\n\n\n\n\n\n\n\n\n\n\nHe leído y acepto la política de privacidad de Asociación CompARTE\n\n \n        \n\n    \n    \n\n   [/vc_column][/vc_row]
URL:https://www.compartealicante.com/evento/sesion-de-cine-con-la-pelicula-gato-negro-gato-blanco-del-director-emir-kusturica/
CATEGORIES:Cine,Cine comentado
ATTACH;FMTTYPE=image/jpeg:https://www.compartealicante.com/wp-content/uploads/2022/10/Copia-de-Cine-en-Sala-Mediterraneo.jpg
END:VEVENT
END:VCALENDAR