BEGIN:VCALENDAR
VERSION:2.0
PRODID:-//CompARTE Alicante · Asociación Cultural - ECPv5.3.2.1//NONSGML v1.0//EN
CALSCALE:GREGORIAN
METHOD:PUBLISH
X-WR-CALNAME:CompARTE Alicante · Asociación Cultural
X-ORIGINAL-URL:https://www.compartealicante.com
X-WR-CALDESC:Eventos para CompARTE Alicante · Asociación Cultural
BEGIN:VTIMEZONE
TZID:Europe/Madrid
BEGIN:DAYLIGHT
TZOFFSETFROM:+0100
TZOFFSETTO:+0200
TZNAME:CEST
DTSTART:20230326T010000
END:DAYLIGHT
BEGIN:STANDARD
TZOFFSETFROM:+0200
TZOFFSETTO:+0100
TZNAME:CET
DTSTART:20231029T010000
END:STANDARD
END:VTIMEZONE
BEGIN:VEVENT
DTSTART;TZID=Europe/Madrid:20230305T190000
DTEND;TZID=Europe/Madrid:20230305T213000
DTSTAMP:20260423T110119
CREATED:20230216T165152Z
LAST-MODIFIED:20230216T165152Z
UID:4172-1678042800-1678051800@www.compartealicante.com
SUMMARY:Sesión de cine con la película «La Vida Más Larga» del director David Valero
DESCRIPTION:[vc_row][vc_column width=»1/2″][vc_column_text]El próximo domingo 5 de marzo a las 19:00 h. tenemos el placer de presentar el último largometraje «La Vida Más Larga» del director de cine David Valero\, que nos la presentará y con quien podremos quedarnos a comentarla.[/vc_column_text][vc_column_text] \nDavid Valero \n  \nLA VIDA MAS LARGA \nAÑO:2021\nDURACIÓN: 78 min\nGUION Y DIRECCIÓN: David Valero\nMÚSICA: Vincent Barrière\nFOTOGRAFÍA: David Valero\nCOMPAÑÍAS: Jaibo Films\, Polars Films\nGÉNERO: Documental | Vejez / Madurez\nINTÉRPRETES: Documental\, Intervenciones de: María Moreno\, Isabel Martínez\, Pepe Valero\, Rosa Martínez\, Irene Valero\, Carmen Molina \nSINOPSIS: María Moreno cumplió 94 años rodeada de familiares y amigos. Vive en un barrio humilde de la localidad alicantina de San Vicente del Raspeig. Hace unos días su vecino y consuegro falleció con su misma edad. Sabe que la muerte está cerca y que algún día vendrá a por ella. Sin embargo María quiere vivir. Vivir hasta los 100 años. \n¡NO TE LA PIERDAS\, RESERVA TU PLAZA! \n[/vc_column_text][/vc_column][vc_column width=»1/2″][vc_column_text]ROGAMOS MÁXIMA PUNTUALIDAD \nApertura de puertas a las 18:45h\nInicio del evento a las 19:00h[/vc_column_text][vc_column_text]EVENTO GRATUITO[/vc_column_text][vc_column_text]IMPRESCINDIBLE RESERVAR:[/vc_column_text]\n\n    \n    \n      \n      \n        \n  \n\n\n\n\n\n\n\n\n\n\n\n\n\n\nHe leído y acepto la política de privacidad de Asociación CompARTE\n\n \n        \n\n    \n    \n\n   [/vc_column][/vc_row]
URL:https://www.compartealicante.com/evento/sesion-de-cine-con-la-pelicula-la-vida-mas-larga-del-director-david-valero/
CATEGORIES:Cine,Cine comentado
ATTACH;FMTTYPE=image/jpeg:https://www.compartealicante.com/wp-content/uploads/2023/02/LARGOMETRAJE-DAVID-VALERO-1.jpg
END:VEVENT
END:VCALENDAR