BEGIN:VCALENDAR
VERSION:2.0
PRODID:-//CompARTE Alicante · Asociación Cultural - ECPv5.3.2.1//NONSGML v1.0//EN
CALSCALE:GREGORIAN
METHOD:PUBLISH
X-WR-CALNAME:CompARTE Alicante · Asociación Cultural
X-ORIGINAL-URL:https://www.compartealicante.com
X-WR-CALDESC:Eventos para CompARTE Alicante · Asociación Cultural
BEGIN:VTIMEZONE
TZID:Europe/Madrid
BEGIN:DAYLIGHT
TZOFFSETFROM:+0100
TZOFFSETTO:+0200
TZNAME:CEST
DTSTART:20230326T010000
END:DAYLIGHT
BEGIN:STANDARD
TZOFFSETFROM:+0200
TZOFFSETTO:+0100
TZNAME:CET
DTSTART:20231029T010000
END:STANDARD
END:VTIMEZONE
BEGIN:VEVENT
DTSTART;TZID=Europe/Madrid:20230219T190000
DTEND;TZID=Europe/Madrid:20230219T213000
DTSTAMP:20260421T060546
CREATED:20230204T124500Z
LAST-MODIFIED:20230204T124500Z
UID:4129-1676833200-1676842200@www.compartealicante.com
SUMMARY:Sesión de cine con la película Los días de la noche del director Ángel Puado
DESCRIPTION:[vc_row][vc_column width=»1/2″][vc_column_text]El próximo domingo 19 de febrero a las 19:00h. y tras la presentación oficial de la película en versión castellano que tendrá lugar el viernes 17 en la Universidad de Alicante\, tenemos el honor de recibir\, en nuestra asociación\, al director de cine\, Ángel Puado con su último trabajo.\nÁngel ya nos ha presentado sus trabajos en anteriores ocasiones y este año le recibimos para presentarnos la película LOS DÍAS DE LA NOCHE que ya nos anunció el año pasado[/vc_column_text][vc_column_text] \nLOS DÍAS DE LA NOCHE \n«Este film trabaja jugando con el difícil equilibrio entre el drama y la comedia con un tema tan complicado como el Alzheimer\, una enfermedad que se ha convertido en la enfermedad de nuestro siglo\, la película transita por las diferentes etapas e intenta mostrar el recorrido de la misma de una manera amable y con mucho respeto\, sin abandonar en ningún momento la verosimilitud…» \nLos días de la noche es una historia de soledad\, la soledad compartida e impuesta de una pareja de ancianos a los que nada más les queda la compañía mutua y los recuerdos\, aunque estos\, a veces son tan agrios quesería mejor olvidarlos definitivamente. \nEstá película independiente fue rodada con un equipo mínimo y con gran esfuerzo en la provincia de Alicante\, e las playas del cabo de las huerta y de los arenales del sol y en el pueblo de Onil\, cuyo Ayuntamiento amablemente colaboró en el rodaje de la misma y ofreció su casa de cultura para su estreno. \nLos días de la noche fue rodada a lo largo del año 2022 será visionada en todos los Ayuntamientos que lleguen a acuerdos con las sociedades de familiares de enfermos de Alzheimer a las que se donará integramente la totalidad de la recaudación de los visionados de la misma\, en institutos de toda la geografía que estén interesados en la misma para concienciar a las futuras generaciones de esta enfermedad tan presente en nuestro día a día. \n  \nFICHA TÉCNICA/ARTÍSTICA\nTítulo original: Los días de la noche\nDirector: Ángel Puado\nReparto: Tomás Méstre (Quico)\, Neus Agulló (María)\, Sofía Pena (Nieta)\, Joan LLuis Moreno (Toni)\, Fele Pastor (Carlos).\nGénero: Drama\, Comedia\nAño de producción: 2022\nDuración: 88 minutos\nProductora: Ángel Puado\nNacionalidad: Española.\nGuionistas: Joan Lluis Moreno y Ángel Puado\nFotografía: Ángel Puado\nMontaje: Ángel Puado\nDpto. de maquillaje: Charo Albaladejo y Angeles Teresa Díaz García\nBanda sonora: Manuel Rodríguez \nÁNGEL PUADO VELOSO (Madrid\, 1968)\nEl director Ángel Puado Veloso nació en Madrid el 08 de enero de 1968\, a los 18 años se traslada a Valencia a cursar estudios en la facultad de Ciencias Económicas y Empresariales\, tras acabar sus estudios se traslada a Alicante\, donde pasa por varias entidades bancarias y empresas hasta que finalmente obtiene una plaza en la Universidad de Alicante.\nEmpieza su actividad en el audiovisual en el año 2002\, hace ahora 20años\, ha realizado innumerables trabajos\, novelas\, obras de teatro\, este es su cuarto largometraje\, ha realizado más de 30 cortometrajes que han cosechado más de 200 premios nacionales e internacionales\, con sus largometrajes ha cosechado más de 150 premios en festivales internacionales y se han vendido a plataformas como Amazón Prime y compañías aéreas.\nEl proyecto “Los días de la noche” se grabó el mes de abril y mayo de2022. El largometraje se rodó al mismo tiempo en castellano y en valenciano.\nEste proyecto nace del enamoramiento de la obra de teatro del mismo nombre\, el autor con el que ya había trabajado previamente en un cortometraje “Et deixe” que tuvo más de 100.000 visionados en Youtube cedió el texto en el que se trabajó durante el año 2021 desarrollándolo visualmente y ampliando sus personajes y sus tramas.\nSe decide contar como protagonistas con los dos actores protagonistas de la obra de teatro y con el propio autor del texto teatral. \nARGUMENTO\nLos días de la Noche es una historia de soledad\, de soledad y de recuerdos de una vida que empieza a borrarse. En los días de la noche nos emocionaremos con Quico y María\, se nos dibujará una sonrisa\, a veces agria\, a veces amarga que se fundirá con el humor y la ternura como la vida misma. La pérdida de memoria y el amor guiaran esta historia. Un tema delicado como el Alzheimer tratado de una manera que emocionará entre el humor dulce y el drama amargo. \n  \nPincha aquí para mas información los dias de la noche \nPincha aquí para más información sobre Ángel Puado[/vc_column_text][/vc_column][vc_column width=»1/2″][vc_column_text]ROGAMOS MÁXIMA PUNTUALIDAD \nApertura de puertas a las 18:45h\nInicio del evento a las 19:00h[/vc_column_text][vc_column_text]EVENTO GRATUITO[/vc_column_text][vc_column_text]IMPRESCINDIBLE RESERVAR:[/vc_column_text]\n\n    \n    \n      \n      \n        \n  \n\n\n\n\n\n\n\n\n\n\n\n\n\n\nHe leído y acepto la política de privacidad de Asociación CompARTE\n\n \n        \n\n    \n    \n\n   [/vc_column][/vc_row]
URL:https://www.compartealicante.com/evento/sesion-de-cine-con-la-pelicula-los-dias-de-la-noche-del-director-angel-puado/
CATEGORIES:Cine comentado
ATTACH;FMTTYPE=image/jpeg:https://www.compartealicante.com/wp-content/uploads/2023/01/Cartel-Los-dias-de-la-noche.jpg
END:VEVENT
END:VCALENDAR