BEGIN:VCALENDAR
VERSION:2.0
PRODID:-//CompARTE Alicante · Asociación Cultural - ECPv5.3.2.1//NONSGML v1.0//EN
CALSCALE:GREGORIAN
METHOD:PUBLISH
X-WR-CALNAME:CompARTE Alicante · Asociación Cultural
X-ORIGINAL-URL:https://www.compartealicante.com
X-WR-CALDESC:Eventos para CompARTE Alicante · Asociación Cultural
BEGIN:VTIMEZONE
TZID:Europe/Madrid
BEGIN:DAYLIGHT
TZOFFSETFROM:+0100
TZOFFSETTO:+0200
TZNAME:CEST
DTSTART:20220327T010000
END:DAYLIGHT
BEGIN:STANDARD
TZOFFSETFROM:+0200
TZOFFSETTO:+0100
TZNAME:CET
DTSTART:20221030T010000
END:STANDARD
END:VTIMEZONE
BEGIN:VEVENT
DTSTART;TZID=Europe/Madrid:20220903T210000
DTEND;TZID=Europe/Madrid:20220903T230000
DTSTAMP:20260423T110223
CREATED:20220829T145904Z
LAST-MODIFIED:20220829T145904Z
UID:3788-1662238800-1662246000@www.compartealicante.com
SUMMARY:Sesión de cine con la película Mediterráneo de Gabriele Salvatores
DESCRIPTION:[vc_row][vc_column width=»1/2″][vc_column_text]El próximo sábado 3 de septiembre a las 21:00h\, tenemos una sesión de cine  en sala con la película Mediterráneo\,  la presentación correrá a cargo de nuestro socio y amigo Luisvi López LLorca.[/vc_column_text][vc_single_image image=»3789″ img_size=»448×252″ alignment=»center»][vc_column_text] \n\nTítulo original: Mediterraneo\nDirección: Gabriele Salvatores\nAño: 1991\nDuración: 90 min.\nPaís: Italia\nMúsica: Giancarlo Bigazzi\, Marco Falagian\nGénero: Comedia | Ejército. II Guerra Mundial\n\nEs una película muy nuestra\, como el mar que le sirve de título y escenario. Su director sabe tocar las teclas del corazón. Nos muestra personajes como nosotros\, aunque hablen idiomas distintos. Unos son de la media luna\, otros de cruces con brazos más o menos largos. Al final todos somos arena y sueños de sal. Mediterráneo es un film de guerra\, sin tiros\, una trinchera infinita vacía. Veréis amistad\, amor\, nostalgia\, en gente que\, aunque se parece poco\, lo tiene todo en común. Mediterráneo me llena siempre de paz interior y exterior. Espero que también os renueve las ganas de vivir y de reír. El largometraje\, como una buena ensaladilla rusa\, lleva de todo. Sólo le faltáis vosotr@s. Os esperamos el 3 de septiembre\, con el olor a lápiz\, goma y libros nuevos del curso que comienza. \n¡NO TE QUEDES SIN TU PLAZA\, RESERVA YA! \n[/vc_column_text][/vc_column][vc_column width=»1/2″][vc_column_text]ROGAMOS MÁXIMA PUNTUALIDAD \nApertura de puertas a las 20:40h \nInicio del evento a las 21:00h[/vc_column_text][vc_column_text]Aportación socios: GRATUITO\nGeneral: GRATUITO[/vc_column_text][vc_column_text]IMPRESCINDIBLE RESERVAR:[/vc_column_text]\n\n    \n    \n      \n      \n        \n  \n\n\n\n\n\n\n\n\n\n\n\n\n\n\nHe leído y acepto la política de privacidad de Asociación CompARTE\n\n \n        \n\n    \n    \n\n   [/vc_column][/vc_row]
URL:https://www.compartealicante.com/evento/sesion-de-cine-con-la-pelicula-mediterraneo-de-gabriele-salvatores/
CATEGORIES:Cine,Cine comentado
ATTACH;FMTTYPE=image/jpeg:https://www.compartealicante.com/wp-content/uploads/2022/08/Cine-en-Sala-Mediterraneo-1.jpg
END:VEVENT
END:VCALENDAR