BEGIN:VCALENDAR
VERSION:2.0
PRODID:-//CompARTE Alicante · Asociación Cultural - ECPv5.3.2.1//NONSGML v1.0//EN
CALSCALE:GREGORIAN
METHOD:PUBLISH
X-WR-CALNAME:CompARTE Alicante · Asociación Cultural
X-ORIGINAL-URL:https://www.compartealicante.com
X-WR-CALDESC:Eventos para CompARTE Alicante · Asociación Cultural
BEGIN:VTIMEZONE
TZID:Europe/Madrid
BEGIN:DAYLIGHT
TZOFFSETFROM:+0100
TZOFFSETTO:+0200
TZNAME:CEST
DTSTART:20230326T010000
END:DAYLIGHT
BEGIN:STANDARD
TZOFFSETFROM:+0200
TZOFFSETTO:+0100
TZNAME:CET
DTSTART:20231029T010000
END:STANDARD
END:VTIMEZONE
BEGIN:VEVENT
DTSTART;TZID=Europe/Madrid:20230319T193000
DTEND;TZID=Europe/Madrid:20230319T213000
DTSTAMP:20260421T040559
CREATED:20230313T202443Z
LAST-MODIFIED:20230313T202443Z
UID:4239-1679254200-1679261400@www.compartealicante.com
SUMMARY:Sesión de cine con la proyección del documental Jazz\, la historia del director Ken Burns
DESCRIPTION:[vc_row][vc_column width=»1/2″][vc_column_text]El próximo domingo 19 de marzo a las 19:30 h. tenemos el placer de presentar una sesión de cine con la proyección del documental “Jazz\, la historia” (2000) del director Ken Burns\, la presentación correrá a cargo de Gabriel Mirelman\,  músico\, amigo y socio de compArte\, además tenemos la oportunidad de  comentar con él al finalizar el episodio.[/vc_column_text][vc_column_text]Es la primera serie documental que narra la historia del estilo musical genuinamente norteamericano\, el jazz es también un repaso a la historia política social y cultural de los últimos ciento veinte años de Estados Unidos. \nCaracterizado por su cualidad de improvisación el jazz ha evolucionado influido por los acontecimientos claves del siglo XX\, el marcado racismo todavía presente en algunos estados\, la gran depresión y la política económica de la administración Rooseveltt\, la Segunda Guerra Mundial\, el nacimiento de una nueva cultura juvenil en los 50 y 60\, la lucha por los derechos civiles y todo ello acompañado por raras imágenes\, escenas documentales y más de 500 fragmentos musicales interpretados por las más grandes figuras del jazz de todos los tiempos \nJAZZ\, LA HISTORIA \nAño:2000\nDuración: 60 min\nDirección: Ken Burns\nGuion: Geoffrey C. Ward\nPaís: Reino Unido\nFotografía: Buddy Squires\, Ken Burns\nGénero: Documental \nSI TE GUSTA EL JAZZ\, ESTE ES TU DOCUMENTAL \n¡RESERVA TU PLAZA! \n[/vc_column_text][/vc_column][vc_column width=»1/2″][vc_column_text]ROGAMOS MÁXIMA PUNTUALIDAD \nApertura de puertas a las 19:10h\nInicio del evento a las 19:30h[/vc_column_text][vc_column_text]EVENTO GRATUITO[/vc_column_text][vc_column_text]IMPRESCINDIBLE RESERVAR:[/vc_column_text]\n\n    \n    \n      \n      \n        \n  \n\n\n\n\n\n\n\n\n\n\n\n\n\n\nHe leído y acepto la política de privacidad de Asociación CompARTE\n\n \n        \n\n    \n    \n\n   [/vc_column][/vc_row]
URL:https://www.compartealicante.com/evento/sesion-de-cine-con-la-proyeccion-del-documental-jazz-la-historia-del-director-ken-burns/
CATEGORIES:Cine,Cine comentado
ATTACH;FMTTYPE=image/jpeg:https://www.compartealicante.com/wp-content/uploads/2023/03/Jazz-la-historia-.jpg
END:VEVENT
END:VCALENDAR