BEGIN:VCALENDAR
VERSION:2.0
PRODID:-//CompARTE Alicante · Asociación Cultural - ECPv5.3.2.1//NONSGML v1.0//EN
CALSCALE:GREGORIAN
METHOD:PUBLISH
X-WR-CALNAME:CompARTE Alicante · Asociación Cultural
X-ORIGINAL-URL:https://www.compartealicante.com
X-WR-CALDESC:Eventos para CompARTE Alicante · Asociación Cultural
BEGIN:VTIMEZONE
TZID:Europe/Madrid
BEGIN:DAYLIGHT
TZOFFSETFROM:+0100
TZOFFSETTO:+0200
TZNAME:CEST
DTSTART:20210328T010000
END:DAYLIGHT
BEGIN:STANDARD
TZOFFSETFROM:+0200
TZOFFSETTO:+0100
TZNAME:CET
DTSTART:20211031T010000
END:STANDARD
END:VTIMEZONE
BEGIN:VEVENT
DTSTART;TZID=Europe/Madrid:20210827T213000
DTEND;TZID=Europe/Madrid:20210827T233000
DTSTAMP:20260423T125301
CREATED:20210816T090033Z
LAST-MODIFIED:20210816T082034Z
UID:2660-1630099800-1630107000@www.compartealicante.com
SUMMARY:Sesión de cine propuesta por socios: El Seductor de Don Siegel
DESCRIPTION:[vc_row][vc_column width=»1/2″][vc_column_text]El próximo viernes día 27 tendremos una nueva sesión de cine de verano\, en este caso veremos una película propuesta por dos socios de nuestra asociación\, Esperanza Fuster y Xema Alavedra\, que no proponen ver el film de 1971 El Seductor dirigida por Don Siegel. Previa a la proyección ambos harán una pequeña introducción.[/vc_column_text][vc_column_text] \n\n\n\nTítulo original:The BeguiledAño:1971\nDuración:109 min.\nPaís:Estados Unidos Estados Unidos\nDirección:Don Siegel\nGuion:Albert Maltz\, Grimes Grice. Novela: Thomas Cullinan\nMúsica:Lalo Schifrin\nFotografía:Bruce Surtees\nReparto:Clint Eastwood\, Geraldine Page\, Elizabeth Hartman\, Jo Ann Harris\, Darleen Carr\, Mae Mercer\, Pamelyn Ferdin\, Melody Thomas\, Peggy Drier\nGénero:Drama. Romance | Guerra de Secesión. Siglo XIX. Celos. Melodrama. Drama sureño\n\n\n\nSinopsis\nGuerra Civil norteamericana (1861-1865) John Mc Burney (Clint Eastwood)\, un soldado yanki malherido es rescatado por una jovencita de una escuela de señoritas del Sur. Se las arregla para llevarle a la escuela\, aunque al principio todas las mujeres están aterrorizadas. Cuando empieza a recuperarse\, una a una las irá conquistando a todas\, y así el ambiente se irá enrareciendo a causa de los celos. (FILMAFFINITY) \nCríticas \n«Original guión que da lugar a un curioso\, intimista y sexual western\, el mejor de su director»\, Augusto M. Torres: Diario El País \n«De exquisita estética y morbosa sensualidad\, resulta una rara obra perversa»\, Francisco Marinero: Diario El Mundo \n«Muy buena»\, Fernando Morales: Diario El País[/vc_column_text][/vc_column][vc_column width=»1/2″][vc_column_text]ROGAMOS MÁXIMA PUNTUALIDAD \nApertura de puertas a las 21:10h\nInicio del evento a las 21:30h[/vc_column_text][vc_column_text]Aportación socios: GRATUITO\nGeneral: GRATUITO[/vc_column_text][vc_column_text]IMPRESCINDIBLE RESERVAR:[/vc_column_text]\n\n    \n    \n      \n      \n        \n  \n\n\n\n\n\n\n\n\n\n\n\n\n\n\nHe leído y acepto la política de privacidad de Asociación CompARTE\n\n \n        \n\n    \n    \n\n   [/vc_column][/vc_row]
URL:https://www.compartealicante.com/evento/sesion-de-cine-propuesta-por-socios-el-seductor-de-don-siegel/
CATEGORIES:Cine
ATTACH;FMTTYPE=image/jpeg:https://www.compartealicante.com/wp-content/uploads/2021/08/El-Seductor-Peliculas-propuestas-por-socios.jpg
END:VEVENT
END:VCALENDAR