BEGIN:VCALENDAR
VERSION:2.0
PRODID:-//CompARTE Alicante · Asociación Cultural - ECPv5.3.2.1//NONSGML v1.0//EN
CALSCALE:GREGORIAN
METHOD:PUBLISH
X-WR-CALNAME:CompARTE Alicante · Asociación Cultural
X-ORIGINAL-URL:https://www.compartealicante.com
X-WR-CALDESC:Eventos para CompARTE Alicante · Asociación Cultural
BEGIN:VTIMEZONE
TZID:Europe/Madrid
BEGIN:DAYLIGHT
TZOFFSETFROM:+0100
TZOFFSETTO:+0200
TZNAME:CEST
DTSTART:20210328T010000
END:DAYLIGHT
BEGIN:STANDARD
TZOFFSETFROM:+0200
TZOFFSETTO:+0100
TZNAME:CET
DTSTART:20211031T010000
END:STANDARD
END:VTIMEZONE
BEGIN:VEVENT
DTSTART;TZID=Europe/Madrid:20210820T213000
DTEND;TZID=Europe/Madrid:20210820T233000
DTSTAMP:20260423T125445
CREATED:20210809T152203Z
LAST-MODIFIED:20210815T104156Z
UID:2616-1629495000-1629502200@www.compartealicante.com
SUMMARY:Sesión de cine propuesta por socios: La Caja de Pandora (Lulú) de Georg Wilhelm Pabst
DESCRIPTION:[vc_row][vc_column width=»1/2″][vc_column_text]El próximo viernes día 20 tendremos una nueva sesión de cine de verano\, en este caso veremos una película propuesta por dos socios de nuestra asociación\, Esperanza Fuster y Xema Alavedra\, que no proponen ver el film de 1929 La Caja de Pandora (Lulú) dirigida por Georg Wilhelm Pabst. Previa a la proyección ambos harán una pequeña introducción.[/vc_column_text][vc_column_text] \n\nTítulo original:Die Büchse der Pandora aka\nAño:1929\nDuración:133 min.\nPaís:Alemania Alemania\nDirección:Georg Wilhelm Pabst\nGuion:Ladislaus Vajda. Teatro: Frank Wedeking\nMúsica:Peer Raben (Película muda)\nFotografía:Günther Krampf (B&W)\nReparto:Louise Brooks\, Fritz Kortner\, Alice Roberts\, Carl Goetz\, Gustav Diessl\, Francis Lederer\, Krafft-Raschig\, Siegfried Arno\nGénero:Drama. Romance | Melodrama. Expresionismo alemán. Crimen. Siglo XIX. Película de culto. Cine mudo\n\nSinopsis\nLulú (Louise Brooks) es mujer ambiciosa y sin moral que usa a los hombres a su voluntad. Desinhibida y atractiva\, el aprovechamiento de sus encantos conllevará también sus peligros. Obra mayor del expresionismo que encumbró a Louise Brooks\, una joya del cine mudo que adaptó magistralmente la obra teatral «Lulu» de Wedeking. (FILMAFFINITY) \nCríticas \n«Una hazaña de erotismo cinematográfico.» A. O. Scott: The New York Times\n«Superficial y carente de suspense o emoción.» Variety\n«Louise Brooks nos mira desde la pantalla como si ésta no existiera; deshace el artificio del cine y nos invita a jugar con ella[/vc_column_text][/vc_column][vc_column width=»1/2»][vc_column_text]ROGAMOS MÁXIMA PUNTUALIDAD \nApertura de puertas a las 21:10h\nInicio del evento a las 21:30h[/vc_column_text][vc_column_text]Aportación socios: GRATUITO\nGeneral: GRATUITO[/vc_column_text][vc_column_text]IMPRESCINDIBLE RESERVAR:[/vc_column_text]\n\n    \n    \n      \n      \n        \n  \n\n\n\n\n\n\n\n\n\n\n\n\n\n\nHe leído y acepto la política de privacidad de Asociación CompARTE\n\n \n        \n\n    \n    \n\n   [/vc_column][/vc_row]
URL:https://www.compartealicante.com/evento/sesion-de-cine-propuesta-por-socios-la-caja-de-pandora-lulu-de-georg-wilhelm-pabst/
CATEGORIES:Cine
ATTACH;FMTTYPE=image/jpeg:https://www.compartealicante.com/wp-content/uploads/2021/08/Peliculas-propuestas-por-socios.jpg
END:VEVENT
END:VCALENDAR