BEGIN:VCALENDAR
VERSION:2.0
PRODID:-//CompARTE Alicante · Asociación Cultural - ECPv5.3.2.1//NONSGML v1.0//EN
CALSCALE:GREGORIAN
METHOD:PUBLISH
X-WR-CALNAME:CompARTE Alicante · Asociación Cultural
X-ORIGINAL-URL:https://www.compartealicante.com
X-WR-CALDESC:Eventos para CompARTE Alicante · Asociación Cultural
BEGIN:VTIMEZONE
TZID:Europe/Madrid
BEGIN:DAYLIGHT
TZOFFSETFROM:+0100
TZOFFSETTO:+0200
TZNAME:CEST
DTSTART:20240331T010000
END:DAYLIGHT
BEGIN:STANDARD
TZOFFSETFROM:+0200
TZOFFSETTO:+0100
TZNAME:CET
DTSTART:20241027T010000
END:STANDARD
END:VTIMEZONE
BEGIN:VEVENT
DTSTART;TZID=Europe/Madrid:20240426T193000
DTEND;TZID=Europe/Madrid:20240426T233000
DTSTAMP:20260423T105906
CREATED:20240421T093225Z
LAST-MODIFIED:20240421T093225Z
UID:5609-1714159800-1714174200@www.compartealicante.com
SUMMARY:Sesión de cine reciente con la película Fallen Leaves de Aki Kaurismäki
DESCRIPTION:[vc_row][vc_column width=»1/2″][vc_column_text]El viernes 26 de abril a las 19:30h. os proponemos una sesión de cine-cena con la proyección de la película Fallen Leaves (Hojas caídas) en v.s.o. en finlandés\, del director Aki Kaurismäki . \nAl finalizar la película tendremos un debate sobre la misma mientras disfrutamos de una cena compartida\, donde cada participante puede llevar lo que desee.[/vc_column_text][vc_column_text] \nAnsa es soltera y vive en Helsinki. Trabaja con un contrato de cero horas en un supermercado\, abasteciendo los estantes; luego clasifica el plástico reciclable. Una noche se encuentra accidentalmente con el igualmente solitario trabajador Holappa\, un alcohólico. Contra todo pronóstico y malentendidos\, intentan construir una relación. Como resultado\, Holappa logra controlar su adicción al alcohol.(FILMAFFINITY) \nFALLEN LEAVES (HOJAS CAÍDAS) \nAño:2023\nDuración: 83 min\nDirección: Aki Kaurismäki\nGuion: Aki Kaurismäki\nV.S.O.: finlandés\nFotografía: Timo Salminen\nReparto: Slma Pöysti\, Jussi Vatanen\, Janne Hyytiäinen\, Nuppu Koivu\, Sherwan Haji ….\nCompañías: Sputnik\, Finnish Film Foundation\nGénero: Thriller. Comedia. Drama. Romance | Alcoholismo. Trabajo/empleo. Comedia dramática. Conflicto Rusia-Ucrania\nCalificaciones: (FA/IMDb/otros): 7\,2 Film Affiity\, 7\,4 Imdb \nPremios: 2023 Festival de Cannes: Premio del Jurado\, Premios Globos de Oro: 2 nominaciones\, Premios César (Francia): Nominada a Mejor film extranjero. \n¿Por qué merece la pena ver Fallen Leaves? \nEs una historia de amor madura y realista: La película explora la conexión entre dos personas solitarias que encuentran el amor en una etapa inesperada de sus vidas. Lo hace de manera honesta y conmovedora\, sin caer en clichés o idealizaciones.\nLa reflexión sobre la soledad y la búsqueda de la conexión: La película nos invita a reflexionar sobre la soledad que muchas personas experimentan en la sociedad actual\, y sobre la importancia de encontrar conexiones significativas con los demás.\nUn retrato de la clase trabajadora finlandesa: La película ofrece una mirada cálida y humana a la vida de la clase trabajadora en Helsinki\, Finlandia. \nDirección minimalista de Aki Kaurismäki: El director finlandés Aki Kaurismäki es conocido por su estilo minimalista\, que se caracteriza por el uso de planos fijos\, composiciones simples y diálogos concisos. En Hojas Caídas\, este estilo crea una atmósfera íntima y poética que captura perfectamente la esencia de la historia.\nActuaciones naturales y conmovedoras: Los actores Alma Pöysti y Jussi Vatanen ofrecen unas actuaciones memorables como los dos protagonistas. Su química es palpable y transmiten a la perfección las emociones de sus personajes.\nBanda sonora melancólica: La banda sonora de la película\, compuesta por Timo Kiviluoma\, complementa perfectamente la atmósfera melancólica y romántica de la película. \nFallen Leaves es una película conmovedora y reflexiva que merece la pena ver por su temática madura\, su técnica cinematográfica minimalista y sus actuaciones naturales.  \nEs una película que te hará reír\, llorar y pensar sobre la importancia del amor y la conexión humana. \n¿Y después de la película? \nAl finalizar la proyección\, disfrutaremos de una cena compartida. Además\, tendremos un debate sobre la película para compartir nuestras impresiones y profundizar en los temas que aborda. \n¡RESERVA TU PLAZA! \n[/vc_column_text][/vc_column][vc_column width=»1/2″][vc_column_text]ROGAMOS MÁXIMA PUNTUALIDAD \nApertura de puertas a las 19:00h\nInicio del evento a las 19:30h[/vc_column_text][vc_column_text]EVENTO GRATUITO[/vc_column_text][vc_column_text]IMPRESCINDIBLE RESERVAR:[/vc_column_text]\n\n    \n    \n      \n      \n        \n  \n\n\n\n\n\n\n\n\n\n\n\n\n\n\nHe leído y acepto la política de privacidad de Asociación CompARTE\n\n \n        \n\n    \n    \n\n   [/vc_column][/vc_row]
URL:https://www.compartealicante.com/evento/sesion-de-cine-reciente-con-la-pelicula-fallen-leaves-de-aki-kaurismaki/
CATEGORIES:Cine
ATTACH;FMTTYPE=image/png:https://www.compartealicante.com/wp-content/uploads/2024/04/cartel-fallenleaves-1.png
END:VEVENT
END:VCALENDAR