BEGIN:VCALENDAR
VERSION:2.0
PRODID:-//CompARTE Alicante · Asociación Cultural - ECPv5.3.2.1//NONSGML v1.0//EN
CALSCALE:GREGORIAN
METHOD:PUBLISH
X-WR-CALNAME:CompARTE Alicante · Asociación Cultural
X-ORIGINAL-URL:https://www.compartealicante.com
X-WR-CALDESC:Eventos para CompARTE Alicante · Asociación Cultural
BEGIN:VTIMEZONE
TZID:Europe/Madrid
BEGIN:DAYLIGHT
TZOFFSETFROM:+0100
TZOFFSETTO:+0200
TZNAME:CEST
DTSTART:20230326T010000
END:DAYLIGHT
BEGIN:STANDARD
TZOFFSETFROM:+0200
TZOFFSETTO:+0100
TZNAME:CET
DTSTART:20231029T010000
END:STANDARD
END:VTIMEZONE
BEGIN:VEVENT
DTSTART;TZID=Europe/Madrid:20230519T193000
DTEND;TZID=Europe/Madrid:20230519T233000
DTSTAMP:20260421T043857
CREATED:20230515T172656Z
LAST-MODIFIED:20230515T172656Z
UID:4450-1684524600-1684539000@www.compartealicante.com
SUMMARY:Sesión de cine reciente con la película La Ballena de Darren Aronofsky
DESCRIPTION:[vc_row][vc_column width=»1/2″][vc_column_text]El próximo viernes 19 de mayo a las 19:30 h. tenemos el placer de presentar una sesión de cine-cena con la proyección de la película La Ballena «The whale» (2022) del director Darren Aronofsky. Al finalizar la película tendremos un debate sobre la misma mientras disfrutamos de una cena compartida\, donde cada participante puede llevar lo que desee.[/vc_column_text][vc_column_text]\nUn solitario profesor de inglés con obesidad severa (BrendanFraser) intenta reconectar con su hija adolescente en una última oportunidad de redención. \nTHE WHALE (LA BALLENA) \nAño:2022\nDuración: 117 min\nDirección: Darren Aronofsky\nGuion: Samuel D. Hunter\nMúsica: Rob Simonsen\nFotografía: Matthew Libatique\nReparto: Brendan Fraser\, Sadie Sink\, Hong Chau\, Ty Simpkins\, Samantha Morton\, Sathya Sridharan\, Jacey Sink.\nCompañías: A24\, Protozoa Pictures. Distribuidora: A24 Distribuidora: RTVE\nGénero: Drama | Familia. Enfermedad. Homosexualidad\nCalificaciones\n(FA/IMDb/otros): 7\,2 Film Affiity\, 7\,7 Imdb \n¡RESERVA TU PLAZA! \n[/vc_column_text][/vc_column][vc_column width=»1/2″][vc_column_text]ROGAMOS MÁXIMA PUNTUALIDAD \nApertura de puertas a las 19:00h\nInicio del evento a las 19:30h[/vc_column_text][vc_column_text]EVENTO GRATUITO[/vc_column_text][vc_column_text]IMPRESCINDIBLE RESERVAR:[/vc_column_text]\n\n    \n    \n      \n      \n        \n  \n\n\n\n\n\n\n\n\n\n\n\n\n\n\nHe leído y acepto la política de privacidad de Asociación CompARTE\n\n \n        \n\n    \n    \n\n   [/vc_column][/vc_row]
URL:https://www.compartealicante.com/evento/sesion-de-cine-reciente-con-la-pelicula-la-ballena-de-darren-aronofsky/
CATEGORIES:Cine
ATTACH;FMTTYPE=image/jpeg:https://www.compartealicante.com/wp-content/uploads/2023/05/de-Darren-Aronofsky-.jpg
END:VEVENT
END:VCALENDAR