BEGIN:VCALENDAR
VERSION:2.0
PRODID:-//CompARTE Alicante · Asociación Cultural - ECPv5.3.2.1//NONSGML v1.0//EN
CALSCALE:GREGORIAN
METHOD:PUBLISH
X-WR-CALNAME:CompARTE Alicante · Asociación Cultural
X-ORIGINAL-URL:https://www.compartealicante.com
X-WR-CALDESC:Eventos para CompARTE Alicante · Asociación Cultural
BEGIN:VTIMEZONE
TZID:Europe/Madrid
BEGIN:DAYLIGHT
TZOFFSETFROM:+0100
TZOFFSETTO:+0200
TZNAME:CEST
DTSTART:20230326T010000
END:DAYLIGHT
BEGIN:STANDARD
TZOFFSETFROM:+0200
TZOFFSETTO:+0100
TZNAME:CET
DTSTART:20231029T010000
END:STANDARD
END:VTIMEZONE
BEGIN:VEVENT
DTSTART;TZID=Europe/Madrid:20230210T200000
DTEND;TZID=Europe/Madrid:20230210T223000
DTSTAMP:20260423T110913
CREATED:20230207T175046Z
LAST-MODIFIED:20230207T175046Z
UID:4150-1676059200-1676068200@www.compartealicante.com
SUMMARY:Sesión de Cortos con asistencia de su director\, Santiago Gatto
DESCRIPTION:[vc_row][vc_column width=»1/2″][vc_column_text]El próximo viernes 10 de febrero a las 20:00 h. tenemos el placer de presentar una sesión especial dedicada al director de cine Santiago Gatto\, Nos viene a presentar una selección de cinco cortometrajes\, haciéndonos comentarios sobre cada uno de ellos\, y también para compartir dudas y debate juntos tras su visionado[/vc_column_text][vc_column_text] \nSantiago Gatto es un polifacético artista\, sus dos pasiones son el cine y el baile.En esta ocasión contaremos con él para su pasión y oficio en el cine. \nSe forma en fotografía por la Universidad Industrial de Barcelona\, en los años 80 trabaja como freelance para el Periódico de Cataluña\, El País y otras publicaciones\, al mismo tiempo que desarrolla trabajos de fotografía para el mundo de la publicidad a marcas como Renault\, BMW\, Winthentur y otras. A finales de esa década se especializa en fotografía de moda y ejerce como profesor para la prestigiosa agencia de modelos Teresa Gimpera. A mediados de los 90 se traslada a Alicante donde sigue ejerciendo con éxito trabajos de fotografía publicitaría en diferentes agencias y en la suya propia Gatto Estudio hasta su cierre en 2008. \nA partir de esa fecha crea Nubofilms\, productora de cine en el centro de Alicante\, con el objetivo de la creación de nuevos contenidos audiovisuales. También se convierte en Escuela de cine de verano. Rueda “Él último Día” y “El Secreto” 12 nominaciones en diferente festivales nacionales e internacionales con dos cortometrajes opera prima grabados al mismo tiempo. ¨La Señal ¨y ¨Sacrificio¨. Primer premio Internacional de fotografía life portrait 2020 en la categoría trabajo personal. Se ha incorporado recientemente al staff de profesores del Master de interpretación de la Universidad de Alicante Se graban los cortometrajes: “Juana” “Entre dos castillos” \, “truita de Taronges”\, “Besugo”\, “Fiesta”\, “El fotógrafo” y “ no queda nada” con la productora Weact.cinema. Se convierte en director de la escuela de cine WeAct.cinema \, y colabora constantemente con producciones nacionales y locales de cine tanto como director como DOP . Rueda “No matarás”\, “Mare” y “La catedral” \nLa selección de cortos que veremos en esta cita será: \n\nNormaldo\nJoan\nMare\nLa Señal\nSacri+ficie\n\nPincha aquí para conocer más sobre la trayectoria de Santiago Gatto \n  \n¡RESERVA TU PLAZA\, NO TE LO PIERDAS! \n[/vc_column_text][/vc_column][vc_column width=»1/2″][vc_column_text]ROGAMOS MÁXIMA PUNTUALIDAD \nApertura de puertas a las 19:40h\nInicio del evento a las 20:00h[/vc_column_text][vc_column_text]EVENTO GRATUITO[/vc_column_text][vc_column_text]IMPRESCINDIBLE RESERVAR:[/vc_column_text]\n\n    \n    \n      \n      \n        \n  \n\n\n\n\n\n\n\n\n\n\n\n\n\n\nHe leído y acepto la política de privacidad de Asociación CompARTE\n\n \n        \n\n    \n    \n\n   [/vc_column][/vc_row]
URL:https://www.compartealicante.com/evento/sesion-de-cortos-con-asistencia-de-su-director-santiago-gatto/
CATEGORIES:Cine,Cine comentado
ATTACH;FMTTYPE=image/jpeg:https://www.compartealicante.com/wp-content/uploads/2023/02/SESION-CORTOS-SANTIAGO-GATTO.jpg
END:VEVENT
END:VCALENDAR