BEGIN:VCALENDAR
VERSION:2.0
PRODID:-//CompARTE Alicante · Asociación Cultural - ECPv5.3.2.1//NONSGML v1.0//EN
CALSCALE:GREGORIAN
METHOD:PUBLISH
X-WR-CALNAME:CompARTE Alicante · Asociación Cultural
X-ORIGINAL-URL:https://www.compartealicante.com
X-WR-CALDESC:Eventos para CompARTE Alicante · Asociación Cultural
BEGIN:VTIMEZONE
TZID:Europe/Madrid
BEGIN:DAYLIGHT
TZOFFSETFROM:+0100
TZOFFSETTO:+0200
TZNAME:CEST
DTSTART:20210328T010000
END:DAYLIGHT
BEGIN:STANDARD
TZOFFSETFROM:+0200
TZOFFSETTO:+0100
TZNAME:CET
DTSTART:20211031T010000
END:STANDARD
END:VTIMEZONE
BEGIN:VEVENT
DTSTART;TZID=Europe/Madrid:20211211T110000
DTEND;TZID=Europe/Madrid:20211211T133000
DTSTAMP:20260423T105909
CREATED:20211205T175453Z
LAST-MODIFIED:20211206T093830Z
UID:3044-1639220400-1639229400@www.compartealicante.com
SUMMARY:Taller de elaboración de turrón y etiquetado de alimentos
DESCRIPTION:[vc_row][vc_column width=»1/2″][vc_column_text]Tenemos el placer de invitaros a participar en el goloso y navideño  Taller de Elaboración de Turrón y Etiquetado de Alimentos\, programado para el 11 de diciembre\, a cargo de Óscar Gutiérrez\, socio y vocal de compARTE.[/vc_column_text][vc_column_text]¿Te gustaría fabricarte tu propio turrón? \n¿Sabes cuántas calorías tomas con cada alimento? \n¿Sabes cuál es la dieta recomendada por la UE? \nEste taller pretende dar respuesta a todas esas preguntas y además a sorprender en nuestra mesa navideña con un turrón a la piedra elaborado por ti. \nEl máximo deleite para un xixonec\, el producto que jamás puede faltar en su despensa\, es el turrón a la piedra. Hablamos de una variedad mucho menos conocida\, pero arraigada durante siglos en esta famosa ciudad del interior de Alicante. Su aspecto puede engañar por su parecido al turrón de jijona\, pero son muy diferentes. Su consistencia también es muy distinta (mucho más cremosa). Su nombre\, por tanto\, no se debe a su textura\, sino a que se elaboraba antiguamente moliendo la almendra en una superficie de piedra. Otra característica de este turrón -que es más exclusivo y no suele comercializarse en el resto de España\, salvo en algunas tiendas gourmet- es que la mezcla de ingredientes se realiza en frío con un molino especial\, mientras que el turrón de Jijona se trabaja en caliente \n¡Cada participante podrá llevarse a casa turrón a la piedra que haya elaborado! \n  \n[/vc_column_text][vc_column_text]El taller está previsto para el sábado 11 de diciembre\, por la mañana\, de 11 a 13:30h. al aire libre y en la terraza de nuestra sede\, siempre que las condiciones climáticas lo permitan. Si no fuese así\, se realizaría en el interior de nuestra sede. \nPara realizar este taller tenéis que traer los siguientes materiales: \nboli para anotar\, cuchara sopera\, cucharillas para probar\, un delantal por si no quieres mancharte y táper de 500 a 750 ml. para llevarte el turrón.[/vc_column_text][/vc_column][vc_column width=»1/2″][vc_column_text]ROGAMOS MÁXIMA PUNTUALIDAD \nApertura de puertas a las 10:45h\nInicio del evento a las 11:00h[/vc_column_text][vc_column_text]Aportación socios: 8€ \nAportación general: 12€ \nEl coste incluye la materia prima para la elaboración del turrón a la piedra. El participante se lleva el disfrute-aprendizaje de la jornada y su propio turrón. \nEl pago de la actividad lo podrás hacer el día del taller a la persona responsable. \nSolo tendrás que presentarte con ganas de disfrutar. Si te interesa ¡apúntante![/vc_column_text][vc_column_text]SE PRECISA CERTIFICADO DE VACUNACIÓN ANTI-COVID19 – \nMejor si se remite por correo al hacer la reserva \nIMPRESCINDIBLE RESERVAR:[/vc_column_text]\n\n    \n    \n      \n      \n        \n  \n\n\n\n\n\n\n\n\n\n\n\n\n\n\nAdjunta certificado \nHe leído y acepto la política de privacidad de Asociación CompARTE\n\n \n        \n\n    \n    \n\n   [/vc_column][/vc_row]
URL:https://www.compartealicante.com/evento/taller-de-elaboracion-de-turron-y-etiquetado-de-alimentos/
CATEGORIES:Talleres
ATTACH;FMTTYPE=image/jpeg:https://www.compartealicante.com/wp-content/uploads/2021/12/Copia-de-Taller-Aromaterapia.jpg
END:VEVENT
END:VCALENDAR