BEGIN:VCALENDAR
VERSION:2.0
PRODID:-//CompARTE Alicante · Asociación Cultural - ECPv5.3.2.1//NONSGML v1.0//EN
CALSCALE:GREGORIAN
METHOD:PUBLISH
X-WR-CALNAME:CompARTE Alicante · Asociación Cultural
X-ORIGINAL-URL:https://www.compartealicante.com
X-WR-CALDESC:Eventos para CompARTE Alicante · Asociación Cultural
BEGIN:VTIMEZONE
TZID:Europe/Madrid
BEGIN:DAYLIGHT
TZOFFSETFROM:+0100
TZOFFSETTO:+0200
TZNAME:CEST
DTSTART:20220327T010000
END:DAYLIGHT
BEGIN:STANDARD
TZOFFSETFROM:+0200
TZOFFSETTO:+0100
TZNAME:CET
DTSTART:20221030T010000
END:STANDARD
END:VTIMEZONE
BEGIN:VEVENT
DTSTART;TZID=Europe/Madrid:20221203T110000
DTEND;TZID=Europe/Madrid:20221203T133000
DTSTAMP:20260421T043035
CREATED:20221128T213407Z
LAST-MODIFIED:20221128T213407Z
UID:4023-1670065200-1670074200@www.compartealicante.com
SUMMARY:Taller de elaboración de turrones. Aprende comiendo 2023
DESCRIPTION:[vc_row][vc_column width=»1/2″][vc_column_text]Tenemos el placer de invitaros a participar nuevamente en el goloso y navideño Taller de elaboración de turrones. Aprende comiendo. En esta ocasión lo hemos programado para el 3 de diciembre\, impartirá el taller Óscar Gutiérrez\, socio y vocal de compARTE.[/vc_column_text][vc_column_text]Charla formativa sobre como interpretar la etiqueta nutricional de los alimentos. \n\nComparar la tabla de alimentos.\nConocer los principales aditivos alimentarios y cuáles son los más imprescindibles y cuáles son “decorativos”\n\nTaller  \nDiviértete fabricando tu propio turrón a la piedra. Conocer su composición y propiedades. Elaborar turrón de yema. Aprender a hacer la yema tostada \n¡Cada participante podrá llevarse a casa turrón a la piedra que haya elaborado! \n[/vc_column_text][vc_column_text]El taller está previsto para el 3 de diciembre\, por la mañana\, de 11 a 13:30h en nuestra sede. Para realizar este taller tenéis que traer los siguientes materiales: \nBoli para anotar\, cuchara sopera\, cucharillas para probar\, un delantal por si no quieres mancharte y táper de 500 a 750 ml. para llevarte el turrón.[/vc_column_text][/vc_column][vc_column width=»1/2″][vc_column_text]ROGAMOS MÁXIMA PUNTUALIDAD \nApertura de puertas a las 10:45h\nInicio del evento a las 11:00h[/vc_column_text][vc_column_text]Aportación socios: 10€ \nAportación general: 12€ \nEl coste incluye la materia prima para la elaboración del turrón a la piedra. El participante se lleva el disfrute-aprendizaje de la jornada y su propio turrón. \nEl pago de la actividad lo podrás hacer el día del taller a la persona responsable. \nSolo tendrás que presentarte con ganas de disfrutar. Si te interesa ¡apúntante![/vc_column_text][vc_column_text]IMPRESCINDIBLE RESERVAR:[/vc_column_text]\n\n    \n    \n      \n      \n        \n  \n\n\n\n\n\n\n\n\n\n\n\n\n\n\nAdjunta certificado \nHe leído y acepto la política de privacidad de Asociación CompARTE\n\n \n        \n\n    \n    \n\n   [/vc_column][/vc_row]
URL:https://www.compartealicante.com/evento/taller-de-elaboracion-de-turrones-aprende-comiendo-2023/
CATEGORIES:Talleres
ATTACH;FMTTYPE=image/jpeg:https://www.compartealicante.com/wp-content/uploads/2022/11/Taller-de-Turron-diciembre-2023.jpg
END:VEVENT
END:VCALENDAR