BEGIN:VCALENDAR
VERSION:2.0
PRODID:-//CompARTE Alicante · Asociación Cultural - ECPv5.3.2.1//NONSGML v1.0//EN
CALSCALE:GREGORIAN
METHOD:PUBLISH
X-WR-CALNAME:CompARTE Alicante · Asociación Cultural
X-ORIGINAL-URL:https://www.compartealicante.com
X-WR-CALDESC:Eventos para CompARTE Alicante · Asociación Cultural
BEGIN:VTIMEZONE
TZID:Europe/Madrid
BEGIN:DAYLIGHT
TZOFFSETFROM:+0100
TZOFFSETTO:+0200
TZNAME:CEST
DTSTART:20220327T010000
END:DAYLIGHT
BEGIN:STANDARD
TZOFFSETFROM:+0200
TZOFFSETTO:+0100
TZNAME:CET
DTSTART:20221030T010000
END:STANDARD
END:VTIMEZONE
BEGIN:VEVENT
DTSTART;TZID=Europe/Madrid:20221014T190000
DTEND;TZID=Europe/Madrid:20221014T200000
DTSTAMP:20260420T225118
CREATED:20220926T175631Z
LAST-MODIFIED:20220926T192449Z
UID:3875-1665774000-1665777600@www.compartealicante.com
SUMMARY:Taller de iniciación a las sevillanas - Clase 1
DESCRIPTION:[vc_row][vc_column width=»1/2″][vc_column_text]Tenemos el placer de anticipar el taller de 4 sesiones de iniciación a las sevillanas conducido por el profesor de baile José Luis Balboa. \nAutodidacta hasta los dieciocho años\, que pisó por primera vez una academia de baile (sevillanas y bailes regionales)\, no fue hasta los veinte cuando se colocó delante de una barra de ballet y me puso unas castañuelas en las manos. \nFormado en Alicante\, Madrid\, Barcelona\, Mallorca y Málaga con profesores de la talla de Félix Romero\, Carmen Lucena\, Nydia Vales\, Cristina Benitez\, Eva Arcacia\, Fefa Gómez\, Ester Galindo\, Paco Romero\, Manolete\, Diego Llori\, Merche Esmeralda\, Manuel Núñez\, Elvira Andrés\, Pepe Ruiz\, Cristóbal Reyes\, etc. \nTrabajó profesionalmente durante diez años por toda la geografía española\, así como en Italia\, Eslovenia\, Francia\, Holanda \,Praga\, etc[/vc_column_text][vc_column_text] \n¡Bailar es soñar con los pies!\nBailar es algo que prácticamente todo el mundo disfruta hacer. Si observas una persona mientras está bailando\, seguramente ésta tiene una gran sonrisa en su cara. ¡Sonreír y reír mientras se baila es absolutamente natural! Esto es debido a que permite que disfrutes realmente. \nBailar puede mejorar tu memoria. Y\, una de sus grandes ventajas es que\, a diferencia de otras formas de ejercicio\, en el baile no hay barrera de edad. El baile es una gran manera para que la gente\, de todas las edades\, logre mantenerse en forma. Además de ser divertido\, el baile tiene muchos beneficios positivos para la salud. \n¡No lo dudes\, y apúntate! Da un paso adelante en tu vida. Baila\, sueña\, disfruta  \n[/vc_column_text][vc_column_text]El taller constará de 4 sesiones de 60 minutos cada una (4 horas en total) \n\nViernes 14 de Octubre de 19:00 a 20:00.\nViernes 21 de Octubre de 19:00 a 20:00.\nViernes 28 de Octubre de 19:00 a 20:00.\nViernes 4 de Noviembre de 19:00 a 20:00.\n\n[/vc_column_text][/vc_column][vc_column width=»1/2″][vc_column_text]ROGAMOS MÁXIMA PUNTUALIDAD \nApertura de puertas 15 minutos antes de cada sesión \nLos viernes de Octubre 14\,21 y 28 y el 4 de Noviembre[/vc_column_text][vc_column_text]Precio: 35€ por las 4 clases a abonar en metálico en la primera clase. \nNúmero de asistentes: mínimo 8 y máximo 16 (por riguroso orden de inscripción).[/vc_column_text][vc_column_text]IMPRESCINDIBLE RESERVAR:[/vc_column_text]\n\n    \n    \n      \n      \n        \n  \n\n\n\n\n\n\n\n\n\n\n\n\n\n\nHe leído y acepto la política de privacidad de Asociación CompARTE\n\n \n        \n\n    \n    \n\n   [/vc_column][/vc_row]
URL:https://www.compartealicante.com/evento/taller-de-iniciacion-a-las-sevillanas-clase-1/
CATEGORIES:Talleres
ATTACH;FMTTYPE=image/jpeg:https://www.compartealicante.com/wp-content/uploads/2022/09/Taller-Sevillanas-3.jpg
END:VEVENT
END:VCALENDAR