BEGIN:VCALENDAR
VERSION:2.0
PRODID:-//CompARTE Alicante · Asociación Cultural - ECPv5.3.2.1//NONSGML v1.0//EN
CALSCALE:GREGORIAN
METHOD:PUBLISH
X-WR-CALNAME:CompARTE Alicante · Asociación Cultural
X-ORIGINAL-URL:https://www.compartealicante.com
X-WR-CALDESC:Eventos para CompARTE Alicante · Asociación Cultural
BEGIN:VTIMEZONE
TZID:Europe/Madrid
BEGIN:DAYLIGHT
TZOFFSETFROM:+0100
TZOFFSETTO:+0200
TZNAME:CEST
DTSTART:20220327T010000
END:DAYLIGHT
BEGIN:STANDARD
TZOFFSETFROM:+0200
TZOFFSETTO:+0100
TZNAME:CET
DTSTART:20221030T010000
END:STANDARD
END:VTIMEZONE
BEGIN:VEVENT
DTSTART;TZID=Europe/Madrid:20221113T103000
DTEND;TZID=Europe/Madrid:20221113T133000
DTSTAMP:20260421T030122
CREATED:20221107T163653Z
LAST-MODIFIED:20221108T093829Z
UID:3987-1668335400-1668346200@www.compartealicante.com
SUMMARY:Taller de Masaje facial y aceites esenciales.
DESCRIPTION:[vc_row][vc_column width=»1/2″][vc_column_text]Tenemos el placer de invitarte a participar el próximo domingo 13 de noviembre en Taller de Masaje Facial y aceites esenciales conducido por parte de Eva S. López\, socia de comparte y experta en la materia.[/vc_column_text][vc_column_text]Taller para conocer el camino de los EXTRACTOS AROMÁTICOS DE LAS PLANTAS A LAS EMULSIONES. Conoce la base de la formulación\, mezcla tus extractos y aplícalos a tu piel con técnica manual. y LLÉVATE TU PROPIA MEZCLA! En buena compañía! \nObjetivos del taller: \n«promover CULTURA DEL AUTOCUIDADO Y EL BIENESTAR\, HÁBITOS DE VIDA Y CONSUMO SALUDABLES.\n* Aprenderemos a recuperar y desarrollar nuestra memoria olfativa\,\n* Conoceremos extractos naturales de las plantas\, tipo aceites vegetales\, aceites esenciales\, gelificados naturales.\n* Aprenderemos a preparar emulsiones tipo serum\n* Aprenderemos a aplicarlo en un masaje facial con las manos\n* Recuperaremos y extenderemos hábitos saludables.»[/vc_column_text][vc_column_text]Breve reseña profesional sobre Eva S. López \n«Docente\, Periodista y Técnico Manual de Quiromasaje\, Drenaje Linfático Manual\, Reflexologías y Aromaterapia aplicada.\nComplemento el área de Cuidados con la Formación. \n* Miembro de APTNE/TENACAT (Asociación de Profesionales de Terapias Naturales de España)\, y de la Red de Cuidador@s Familiares\, desde 2010).\n* Asociación de Masajistas Terapéuticos de Andalucía Oct. 2007- 2012. Registro nº 41-1-11991 y Nº 1105/09 de Asociaciones de Autocuidado y\nAyuda Mutua a la Salud de la Consejería de Salud Pública\, Junta de Andalucía.»[/vc_column_text][/vc_column][vc_column width=»1/2»][vc_column_text]ROGAMOS MÁXIMA PUNTUALIDAD \nHorario de Apertura de puertas: 10:15h \nHorario de Inicio del taller: 10:30h \nHorario de finalización del taller: 13:30h[/vc_column_text][vc_column_text]Aportación 10 euros[/vc_column_text][vc_column_text]IMPRESCINDIBLE RESERVAR:[/vc_column_text]\n\n    \n    \n      \n      \n        \n  \n\n\n\n\n\n\n\n\n\n\n\n\n\n\nHe leído y acepto la política de privacidad de Asociación CompARTE\n\n \n        \n\n    \n    \n\n   [/vc_column][/vc_row]
URL:https://www.compartealicante.com/evento/taller-de-masaje-facial-y-aceites-esenciales/
CATEGORIES:Talleres
ATTACH;FMTTYPE=image/jpeg:https://www.compartealicante.com/wp-content/uploads/2022/11/Copia-de-Taller-Aromaterapia-1.jpg
END:VEVENT
END:VCALENDAR