BEGIN:VCALENDAR
VERSION:2.0
PRODID:-//CompARTE Alicante · Asociación Cultural - ECPv5.3.2.1//NONSGML v1.0//EN
CALSCALE:GREGORIAN
METHOD:PUBLISH
X-WR-CALNAME:CompARTE Alicante · Asociación Cultural
X-ORIGINAL-URL:https://www.compartealicante.com
X-WR-CALDESC:Eventos para CompARTE Alicante · Asociación Cultural
BEGIN:VTIMEZONE
TZID:Europe/Madrid
BEGIN:DAYLIGHT
TZOFFSETFROM:+0100
TZOFFSETTO:+0200
TZNAME:CEST
DTSTART:20230326T010000
END:DAYLIGHT
BEGIN:STANDARD
TZOFFSETFROM:+0200
TZOFFSETTO:+0100
TZNAME:CET
DTSTART:20231029T010000
END:STANDARD
END:VTIMEZONE
BEGIN:VEVENT
DTSTART;TZID=Europe/Madrid:20231019T183000
DTEND;TZID=Europe/Madrid:20231019T200000
DTSTAMP:20260421T061114
CREATED:20231005T133323Z
LAST-MODIFIED:20231005T134410Z
UID:4955-1697740200-1697745600@www.compartealicante.com
SUMMARY:Taller de ukeleles\, guitarras y percusión impartido por Gabriel Mirelman -  1er.Curso 2023/2024
DESCRIPTION:[vc_row][vc_column width=»1/2″][vc_column_text]Os proponemos un taller musical de ukelele\, guitarras y percusión impartido por nuestro socio y amigo Gabriel Mirelman. Tendrá lugar todos los jueves de cada mes\, en nuestra sede. El objetivo es de disfrutar tocando música y eventualmente ofrecer un concierto para los socios como cierre del curso 2023/2024.[/vc_column_text][vc_column_text]Gabriel Mirelman\, músico\, compositor y creativo nos propone un actividad taller sobre ukelele\, guitarras y percusión. \nEn el taller de ukeleles y guitarras vamos a preparar un repertorio con arreglos específicos para poder introducirnos en el mundo de la música instrumental desde nivel iniciación.\nEl objetivo es poder tener un momento divertido donde aprender a tocar con otros y eventualmente ofrecer un concierto para familiares y amigos.[/vc_column_text][vc_column_text]♪♪ Director del taller: Gabriel Mirelman \n¡ACTIVIDAD MUY GRATIFICANTE\, INSCRÍBETE YA! \n[/vc_column_text][/vc_column][vc_column width=»1/2″][vc_column_text]ROGAMOS MÁXIMA PUNTUALIDAD \n1er. Curso 2023/2024 todos los jueves* del mes \nHora de inicio a las 18:30h\nHora de finalización 20:00h \n* Inicio probable de la actividad el jueves 19 de octubre aunque dependerá del número de personas inscritas.[/vc_column_text][vc_column_text]Aportación socios: 30€/mes\nGeneral : 35€/mes[/vc_column_text][vc_column_text]IMPRESCINDIBLE RESERVAR:[/vc_column_text]\n\n    \n    \n      \n      \n        \n  \n\n\n\n\n\n\n\n\n\n\n\n\n\n\nHe leído y acepto la política de privacidad de Asociación CompARTE\n\n \n        \n\n    \n    \n\n   [/vc_column][/vc_row]
URL:https://www.compartealicante.com/evento/taller-de-ukeleles-guitarras-y-percusion-impartido-por-gabriel-mirelman-1er-curso-2023-2024/
CATEGORIES:Talleres
ATTACH;FMTTYPE=image/png:https://www.compartealicante.com/wp-content/uploads/2023/10/Copia-de-Copia-de-Taller-UKELELE-2-1-1.png
END:VEVENT
END:VCALENDAR