BEGIN:VCALENDAR
VERSION:2.0
PRODID:-//CompARTE Alicante · Asociación Cultural - ECPv5.3.2.1//NONSGML v1.0//EN
CALSCALE:GREGORIAN
METHOD:PUBLISH
X-WR-CALNAME:CompARTE Alicante · Asociación Cultural
X-ORIGINAL-URL:https://www.compartealicante.com
X-WR-CALDESC:Eventos para CompARTE Alicante · Asociación Cultural
BEGIN:VTIMEZONE
TZID:Europe/Madrid
BEGIN:DAYLIGHT
TZOFFSETFROM:+0100
TZOFFSETTO:+0200
TZNAME:CEST
DTSTART:20260329T010000
END:DAYLIGHT
BEGIN:STANDARD
TZOFFSETFROM:+0200
TZOFFSETTO:+0100
TZNAME:CET
DTSTART:20261025T010000
END:STANDARD
END:VTIMEZONE
BEGIN:VEVENT
DTSTART;TZID=Europe/Madrid:20260228T100000
DTEND;TZID=Europe/Madrid:20260228T120000
DTSTAMP:20260421T001634
CREATED:20260216T162958Z
LAST-MODIFIED:20260216T162958Z
UID:8477-1772272800-1772280000@www.compartealicante.com
SUMMARY:Taller de Yoga con Rosario Ferrer - NUEVA FECHA
DESCRIPTION:[vc_row][vc_column width=»1/2″][vc_column_text]¡NUEVA FECHA! \nTe invitamos a nuestra nuevo taller de yoga el sábado 28 de febrero  a las 10:00h\, en nuestra sede. Impartirá el taller nuestra  amiga y socia\, Rosario Ferrer\, quien nos guiará en una práctica suave y relajante\, perfecta para todas las edades. Disfrutaremos de los beneficios del yoga. \n¡No te pierdas esta oportunidad de experimentar la magia del yoga en un ambiente acogedor y cercano![/vc_column_text][vc_column_text] \nTALLER DE YOGA \nObjetivos: Hacer que el yoga sea una práctica cercana y asequible para todas las personas sin distinción de sexo o edad \nRequisitos: Ropa cómoda\, esterilla\, calcetines\, toalla o mantita para cubrirse en la relajación final\, opcional cojín u otros. \nDescripción: Tras una breve explicación sobre el yoga (que es\, en qué consiste y para qué sirve)\, comenzaremos la práctica. Con una toma de conciencia corporal para darnos cuenta de cómo estamos a modo de testeo inicial\, y continuaremos con ejercicios de respiración consciente\, estiramientos en distintas direcciones\, respetando los límites de cada persona y explorando las posibilidades de ir más allá. Trabajando la propiocepción de nuestro cuerpo a través de ejercicios dinámicos y estáticos “asanas” con las respiraciones pertinentes\, siendo así\, que la atención mental se hace imprescindible para vincular todas las partes del Ser. \nTrabajaremos el cuerpo en su conjunto para desarrollar equilibrio físico\, mental y emocional. Y terminaremos con una técnica de relajación-meditación guiada\, donde\, al terminar nos daremos cuenta del antes y el después de la práctica. \nRosario Ferrer\, es profesora titulada por la Escuela Shivananda Vedanta en Hatha Yoga en 1992 y activa desde entonces\, ha practicado numerosos tipos de yoga (Yllengar\, Bikram\, kundalini) y también ha realizado 5 años de Taichí\, llegando a ser docente durante un año\, además de 7 años de una técnica alemana llamada “Aliento Experimentable\, respiración\, movimiento y voz”.[/vc_column_text][vc_column_text]Beneficios físicos de la práctica del Yoga: \n\nMayor flexibilidad: El yoga estira y fortalece los músculos\, mejorando la flexibilidad y la amplitud de movimiento.\nMejora la postura: Alinea el cuerpo y fortalece los músculos posturales\, lo que reduce el dolor de espalda y mejora la apariencia.\nAumenta la fuerza: Muchas posturas de yoga requieren sostener el peso del cuerpo\, fortaleciendo los músculos y los huesos.\nMejora la coordinación y el equilibrio: Los movimientos fluidos y precisos del yoga mejoran la coordinación y el equilibrio.\n\n  \nBeneficios mentales de la práctica del Yoga: \n\nReduce el estrés y la ansiedad: Las técnicas de respiración profunda y meditación presentes en el yoga ayudan a calmar la mente y reducir los niveles de cortisol\, la hormona del estrés.\nMejora la concentración: El yoga fomenta la atención plena y la concentración\, lo que puede ser beneficioso en la vida diaria.\nAumenta la autoestima: Al lograr nuevas posturas y sentir el progreso\, aumenta la confianza en uno mismo.\nPromueve el bienestar emocional: El yoga ayuda a conectar con las emociones y a desarrollar una mayor conciencia de uno mismo.\n\nOtros beneficios: \n\nMejora el sueño: Las técnicas de relajación del yoga ayudan a conciliar el sueño y a dormir más profundamente.\nFortalece el sistema inmunológico: Al reducir el estrés\, el yoga puede fortalecer el sistema inmunológico.\nAumenta la energía: A pesar de ser una práctica relajante\, el yoga puede aumentar los niveles de energía.\n\nEn resumen\, el yoga es una práctica completa que beneficia tanto al cuerpo como a la mente. Es una excelente manera de mejorar la salud física y mental\, reducir el estrés y aumentar el bienestar general. \nYoga en nuestra sede: ¡Respira\, relájate\, revitalízate!  \n¡No te lo pierdas e inscríbete! \n[/vc_column_text][/vc_column][vc_column width=»1/2″][vc_column_text]ROGAMOS MÁXIMA PUNTUALIDAD \nApertura de puertas a las 09:50h\nInicio del taller a las 10:00h[/vc_column_text][vc_column_text]Aportación socios: 8€\nAportación general : 10€ \n(precio especial de Rosario Ferrer para la asociación\, pues por el valor de una hora tendremos 2 horas)[/vc_column_text][vc_column_text]IMPRESCINDIBLE RESERVAR:[/vc_column_text]\n\n    \n    \n      \n      \n        \n  \n\n\n\n\n\n\n\n\n\n\n\n\n\n\nHe leído y acepto la política de privacidad de Asociación CompARTE\n\n \n        \n\n    \n    \n\n   [/vc_column][/vc_row]
URL:https://www.compartealicante.com/evento/taller-de-yoga-con-rosario-ferrer-nueva-fecha/
LOCATION:SEDE ASOCIACIÓN compARTE – SALA TOLÓN TELL ON\, Carrer Gastón Castelló\, 4\, El Campello\, Alicante\, 03560\, España
CATEGORIES:Talleres
ATTACH;FMTTYPE=image/png:https://www.compartealicante.com/wp-content/uploads/2026/02/Taller-DE-YOGA-2026-2-1-1-1-1-1-1-1.png
END:VEVENT
END:VCALENDAR