BEGIN:VCALENDAR
VERSION:2.0
PRODID:-//CompARTE Alicante · Asociación Cultural - ECPv5.3.2.1//NONSGML v1.0//EN
CALSCALE:GREGORIAN
METHOD:PUBLISH
X-WR-CALNAME:CompARTE Alicante · Asociación Cultural
X-ORIGINAL-URL:https://www.compartealicante.com
X-WR-CALDESC:Eventos para CompARTE Alicante · Asociación Cultural
BEGIN:VTIMEZONE
TZID:Europe/Madrid
BEGIN:DAYLIGHT
TZOFFSETFROM:+0100
TZOFFSETTO:+0200
TZNAME:CEST
DTSTART:20240331T010000
END:DAYLIGHT
BEGIN:STANDARD
TZOFFSETFROM:+0200
TZOFFSETTO:+0100
TZNAME:CET
DTSTART:20241027T010000
END:STANDARD
END:VTIMEZONE
BEGIN:VEVENT
DTSTART;TZID=Europe/Madrid:20240224T200000
DTEND;TZID=Europe/Madrid:20240224T213000
DTSTAMP:20260423T181643
CREATED:20240213T105721Z
LAST-MODIFIED:20240213T112720Z
UID:5302-1708804800-1708810200@www.compartealicante.com
SUMMARY:VINO\, BACH Y POESÍA. Recital de poesía y música a cargo de Paloma Chiner y Jorge Fanjul
DESCRIPTION:[vc_row][vc_column width=»1/2″][vc_column_text]El próximo sábado 24 de febrero a las 20:00h tenemos el placer de presentar el recital de poesía y música ‘ Vino\, Bach y Poesía’ a cargo de la soprano Paloma Chiner\, autora de los textos*\, y del violonchelista Jorge Fanjul\, que interpretará las Suites para Cello de J.S. Bach.[/vc_column_text][vc_column_text]Ambos artistas ya nos visitaron hace unos meses\, junto con el\npianista Pablo García Berlanga\, como integrantes del grupo vocal\nde cámara “Plaerdemavida Ensamble”. ¡Seguro que recordáis el\ndeleite de esa noche memorable!.\nEn esta ocasión disfrutaremos de este espectáculo a dúo que\nsus autores definen como “un viaje a través del amor\, el erotismo\ny el dolor de la pérdida”\, en el que “la espiritualidad de la música\nse une con el peso de la palabra\, y en el que el público podrá ser\nun observador íntimo y cercano de la expresión artística”. \n*Poemas y textos en castellano y valenciano[/vc_column_text][vc_column_text]Pincha en este enlace si quieres conocer más sobre Paloma Chiner \nPincha en este enlace si quieres conocer más sobre Pablo Fanjul \n¡OS ESPERAMOS! \n  \n  \n\n[/vc_column_text][/vc_column][vc_column width=»1/2″][vc_column_text]ROGAMOS MÁXIMA PUNTUALIDAD \nApertura de puertas a las 19:40h\nInicio del evento a las 20:00h[/vc_column_text][vc_column_text]Aportación socios: 15€ \nGeneral: 20€ \n*Si no recibes confirmación en las 24 horas siguientes al envío del formulario de contacto\, por favor haz tu petición directamente a compartealicante@gmail.com[/vc_column_text][vc_column_text]IMPRESCINDIBLE RESERVAR:[/vc_column_text]\n\n    \n    \n      \n      \n        \n  \n\n\n\n\n\n\n\n\n\n\n\n\n\n\nHe leído y acepto la política de privacidad de Asociación CompARTE\n\n \n        \n\n    \n    \n\n   [/vc_column][/vc_row]
URL:https://www.compartealicante.com/evento/vino-bach-y-poesia-recital-de-poesia-y-musica-a-cargo-de-paloma-chiner-y-jorge-fanjul/
CATEGORIES:Conciertos
ATTACH;FMTTYPE=image/png:https://www.compartealicante.com/wp-content/uploads/2024/02/Vino-bach-y-poesia-3-1.png
END:VEVENT
END:VCALENDAR