BEGIN:VCALENDAR
VERSION:2.0
PRODID:-//CompARTE Alicante · Asociación Cultural - ECPv5.3.2.1//NONSGML v1.0//EN
CALSCALE:GREGORIAN
METHOD:PUBLISH
X-WR-CALNAME:CompARTE Alicante · Asociación Cultural
X-ORIGINAL-URL:https://www.compartealicante.com
X-WR-CALDESC:Eventos para CompARTE Alicante · Asociación Cultural
BEGIN:VTIMEZONE
TZID:Europe/Madrid
BEGIN:DAYLIGHT
TZOFFSETFROM:+0100
TZOFFSETTO:+0200
TZNAME:CEST
DTSTART:20250330T010000
END:DAYLIGHT
BEGIN:STANDARD
TZOFFSETFROM:+0200
TZOFFSETTO:+0100
TZNAME:CET
DTSTART:20251026T010000
END:STANDARD
END:VTIMEZONE
BEGIN:VEVENT
DTSTART;TZID=Europe/Madrid:20250404T180000
DTEND;TZID=Europe/Madrid:20250404T200000
DTSTAMP:20260421T041647
CREATED:20250325T144506Z
LAST-MODIFIED:20250325T144619Z
UID:4381-1743789600-1743796800@www.compartealicante.com
SUMMARY:Visita a la Biblioteca de los libros felices
DESCRIPTION:[vc_row][vc_column width=»1/2″][vc_column_text]El próximo viernes 4 de abril a las 18:00h tenemos el placer de volver a convocar una visita a la Biblioteca de los libros felices a propuesta de Mirna Pol\, amiga y secretaria de la asociación. \nAlgunas personas de la asociación ya pudieron disfrutar de estas visita en el centro de Alicante\, la Biblioteca de los Libros Felices\, pero todavía quedan personas con interés en disfrutarla\, motivo por el que hemos solicitado una nueva fecha para nuestra asociación. \nDirigida inicialmente a las personas nuevas que no supieron de esta actividad\, para los que no pudieron acudir en su momento por problemas de agenda\, pero también posible para quien quiera repetir.[/vc_column_text][vc_column_text] \nDe la mano de MARIO CÓRDOBA\, responsable actual de la Biblioteca\, conoceremos la historia de los libros desde los materiales hasta las circunstancias que los rodearon. Tendremos la oportunidad de apreciar en nuestras manos ejemplares centenarios y así “hacerlos más felices”. Una lista de incunables forman parte de esta Biblioteca singular de la ciudad\, fruto de la pasión de su fundador: MANUEL DESANTES. \nEl número máximo de asistentes sería de 12 personas\, así que la reserva se confirmará por orden de llegada de las solicitudes por correo electrónico. \n¿te apuntas? \n[/vc_column_text][/vc_column][vc_column width=»1/2″][vc_column_text]ROGAMOS MÁXIMA PUNTUALIDAD \nQuedamos en la puerta de la biblioteca en la calle Villegas\, 1 a las 17:45h\nInicio del evento a las 18:00h[/vc_column_text][vc_column_text]Evento Gratuito para socios y acompañantes  \n[/vc_column_text][vc_column_text]IMPRESCINDIBLE RESERVAR:[/vc_column_text]\n\n    \n    \n      \n      \n        \n  \n\n\n\n\n\n\n\n\n\n\n\n\n\n\nHe leído y acepto la política de privacidad de Asociación CompARTE\n\n \n        \n\n    \n    \n\n   [/vc_column][/vc_row]
URL:https://www.compartealicante.com/evento/visita-a-la-biblioteca-de-los-libros-felices-2/
LOCATION:Biblioteca de los libros Felices\, Calle Villegas\, 1\, Alicante\, Alicante\, 03001\, España
CATEGORIES:Visitas culturales
ATTACH;FMTTYPE=image/png:https://www.compartealicante.com/wp-content/uploads/2025/03/cartel-biblioteca-libros-felices-1.png
END:VEVENT
END:VCALENDAR