BEGIN:VCALENDAR
VERSION:2.0
PRODID:-//CompARTE Alicante · Asociación Cultural - ECPv5.3.2.1//NONSGML v1.0//EN
CALSCALE:GREGORIAN
METHOD:PUBLISH
X-WR-CALNAME:CompARTE Alicante · Asociación Cultural
X-ORIGINAL-URL:https://www.compartealicante.com
X-WR-CALDESC:Eventos para CompARTE Alicante · Asociación Cultural
BEGIN:VTIMEZONE
TZID:Europe/Madrid
BEGIN:DAYLIGHT
TZOFFSETFROM:+0100
TZOFFSETTO:+0200
TZNAME:CEST
DTSTART:20220327T010000
END:DAYLIGHT
BEGIN:STANDARD
TZOFFSETFROM:+0200
TZOFFSETTO:+0100
TZNAME:CET
DTSTART:20221030T010000
END:STANDARD
END:VTIMEZONE
BEGIN:VEVENT
DTSTART;TZID=Europe/Madrid:20221020T190000
DTEND;TZID=Europe/Madrid:20221020T203000
DTSTAMP:20260422T104449
CREATED:20221016T175258Z
LAST-MODIFIED:20221016T175258Z
UID:3948-1666292400-1666297800@www.compartealicante.com
SUMMARY:Visita a la Biblioteca de los libros felices
DESCRIPTION:[vc_row][vc_column width=»1/2″][vc_column_text]El próximo jueves 20 de octubre tenemos el placer de volver a convocar una visita a la Biblioteca de los libros felices. \nAlgunas personas de la asociación ya pudieron disfrutar de esta visita en el centro de Alicante\, la Biblioteca de los Libros Felices\, pero todavía quedan personas con interés en disfrutarla\, motivo por el que hemos solicitado una nueva fecha para nuestra asociación. \nDirigida inicialmente a las personas nuevas que no supieron de esta actividad\, para los que no pudieron acudir en su momento por problemas de agenda\, pero también posible para quien quiera repetir.[/vc_column_text][vc_column_text] \nLa visita será conducida por MARIO CÓRDOBA\, responsable actual de la Biblioteca\, fundada por MANUEL DESANTES. \nEn ella podremos conocer la historia de los libros\, podremos tocar los distintos materiales con los que se hicieron en el pasado\, conocer algunos datos de la historia de la imprenta\, el significado de términos como «incunable» y ¡además! tomar en nuestra mano y ojear algún pequeño ejemplar de hace varios siglos para «hacerlo feliz». \nEl número ideal de asistentes sería de 10-15 personas\, así que la reserva se confirmará por orden de llegada de las solicitudes por correo electrónico. \n¿te apuntas? \n[/vc_column_text][/vc_column][vc_column width=»1/2″][vc_column_text]ROGAMOS MÁXIMA PUNTUALIDAD:: \nQuedamos en la puerta de la biblioteca en la calle Villegas\, 1 a las 18:45h\nInicio del evento a las 19:00h[/vc_column_text][vc_column_text]Evento Gratuito[/vc_column_text][vc_column_text]IMPRESCINDIBLE RESERVAR:[/vc_column_text]\n\n    \n    \n      \n      \n        \n  \n\n\n\n\n\n\n\n\n\n\n\n\n\n\nHe leído y acepto la política de privacidad de Asociación CompARTE\n\n \n        \n\n    \n    \n\n   [/vc_column][/vc_row]
URL:https://www.compartealicante.com/evento/visita-a-la-biblioteca-de-los-libros-felices/
LOCATION:Biblioteca de los libros Felices\, Calle Villegas\, 1\, Alicante\, Alicante\, 03001\, España
CATEGORIES:Visitas culturales
ATTACH;FMTTYPE=image/jpeg:https://www.compartealicante.com/wp-content/uploads/2022/10/B-1.jpg
END:VEVENT
END:VCALENDAR