BEGIN:VCALENDAR
VERSION:2.0
PRODID:-//CompARTE Alicante · Asociación Cultural - ECPv5.3.2.1//NONSGML v1.0//EN
CALSCALE:GREGORIAN
METHOD:PUBLISH
X-WR-CALNAME:CompARTE Alicante · Asociación Cultural
X-ORIGINAL-URL:https://www.compartealicante.com
X-WR-CALDESC:Eventos para CompARTE Alicante · Asociación Cultural
BEGIN:VTIMEZONE
TZID:Europe/Madrid
BEGIN:DAYLIGHT
TZOFFSETFROM:+0100
TZOFFSETTO:+0200
TZNAME:CEST
DTSTART:20220327T010000
END:DAYLIGHT
BEGIN:STANDARD
TZOFFSETFROM:+0200
TZOFFSETTO:+0100
TZNAME:CET
DTSTART:20221030T010000
END:STANDARD
END:VTIMEZONE
BEGIN:VEVENT
DTSTART;TZID=Europe/Madrid:20220326T180000
DTEND;TZID=Europe/Madrid:20220326T193000
DTSTAMP:20260423T110411
CREATED:20220315T175152Z
LAST-MODIFIED:20220321T165734Z
UID:3353-1648317600-1648323000@www.compartealicante.com
SUMMARY:[Cancelado] Visita al Museo de Arte Contemporáneo MACA - Exposición Obertura Más Allá de los Mapas
DESCRIPTION:[vc_row][vc_column width=»1/2″][vc_single_image image=»3032″ img_size=»full» alignment=»center»][vc_column_text]Evento cancelado hasta tener más información\, por motivos ajenos a la asociación\, nos vemos en la necesidad de cancelar esta visita guiada.  \nEl próximo sábado 26 de marzo a las 18:00 h. os proponemos una visita guiada para ver la exposición temporal Obertura: Más Allá de los Mapas\, en el MACA. \nLa visita guiada a la exposición consta de alrededor de 70 obras seleccionadas entre las 291 piezas recientemente donadas por los coleccionistas Michael Jenkins y Javier Romero al MACA de Alicante. Dicha colección\, referente del arte internacional de las últimas décadas\, recoge las creaciones de 162 artistas de todo el mundo (entre los cuales se encuentran 20 alicantinos)\, atendiendo a todas las corrientes plásticas y a todos los medios y lenguajes artísticos (dibujo\, escultura\, pintura\, obra gráfica\, fotografía\, instalación\, libro de artista o video ). Un hito que supone un incremento más que notable del patrimonio artístico y cultural de la ciudad\, gracias a la generosidad de sus donantes.[/vc_column_text][vc_column_text]Un conjunto amplio donde encontramos artistas consagrados cuyos nombres forman parte de la historia del arte\, artistas con carreras ya consolidadas junto a una serie de artistas más jóvenes a los que han servido de referencia\, creando de forma individual o en colectivos de fuerte contestación social y política. Casi la mitad de artistas mujeres y creadores de nacionalidades\, geografías o generaciones distintas que\, de forma normalizada\, conviven otorgando al conjunto una gran variedad y múltiples perspectivas. Obras que nacen del profundo compromiso con el arte\, del pensamiento y la reflexión estética pero también de la denuncia de la realidad circundante\, de la política\, de la guerra\, de la esclavitud\, de la colonización\, de la lucha feminista\, de la identidad sexual o de género\, de la enfermedad del sida\, de la muerte…\, de la vida\, sin contemplaciones.[/vc_column_text][vc_single_image image=»3392″ img_size=»full» alignment=»center» title=»Los coleccionistas\, Michael Jenkins y Javier Romero\, «Obertura. Más allá de los mapas« donan de su fondo 79 obras al MACA»][vc_column_text]La Colección reunida por Jenkins y Romero es hoy una colección de museo\, referente del arte internacional de las últimas décadas\, que atiende a todas las corrientes plásticas y desarrolla un enfoque multidisciplinar Esta Tan importante colección permitirá abrir nuevas posibilidades y establecer conexiones entre artistas y tendencias\, enriquecerá el discurso de este museo\, multiplicará las miradas sobre el arte y permitirá indagar\, mostrar y reflexionar sobre el mundo contemporáneo. \nMás información en este enlace [/vc_column_text][/vc_column][vc_column width=»1/2″][vc_column_text]ROGAMOS MÁXIMA PUNTUALIDAD \nEncuentro en la puerta del MACA a las 17:45h\nInicio de la visita a las 18:00h \nAFORO MÁXIMO PARA VISITA 15 PERSONAS (por riguroso orden de inscripción) \nEVENTO EXCLUSIVO PARA SOCIOS[/vc_column_text][vc_column_text]Evento GRATUITO[/vc_column_text][vc_column_text]IMPRESCINDIBLE RESERVAR:[/vc_column_text]\n\n    \n    \n      \n      \n        \n  \n\n\n\n\n\n\n\n\n\n\n\n\n\n\nHe leído y acepto la política de privacidad de Asociación CompARTE\n\n \n        \n\n    \n    \n\n   [/vc_column][/vc_row]
URL:https://www.compartealicante.com/evento/visita-al-museo-de-arte-contemporaneo-maca-exposicion-obertura-mas-alla-de-los-mapas/
CATEGORIES:Visita Museos,Visitas culturales
END:VEVENT
END:VCALENDAR