BEGIN:VCALENDAR
VERSION:2.0
PRODID:-//CompARTE Alicante · Asociación Cultural - ECPv5.3.2.1//NONSGML v1.0//EN
CALSCALE:GREGORIAN
METHOD:PUBLISH
X-WR-CALNAME:CompARTE Alicante · Asociación Cultural
X-ORIGINAL-URL:https://www.compartealicante.com
X-WR-CALDESC:Eventos para CompARTE Alicante · Asociación Cultural
BEGIN:VTIMEZONE
TZID:Europe/Madrid
BEGIN:DAYLIGHT
TZOFFSETFROM:+0100
TZOFFSETTO:+0200
TZNAME:CEST
DTSTART:20250330T010000
END:DAYLIGHT
BEGIN:STANDARD
TZOFFSETFROM:+0200
TZOFFSETTO:+0100
TZNAME:CET
DTSTART:20251026T010000
END:STANDARD
END:VTIMEZONE
BEGIN:VEVENT
DTSTART;TZID=Europe/Madrid:20250614T130000
DTEND;TZID=Europe/Madrid:20250614T140000
DTSTAMP:20260424T195123
CREATED:20250608T063654Z
LAST-MODIFIED:20250608T063654Z
UID:7498-1749906000-1749909600@www.compartealicante.com
SUMMARY:Visita guiada al MUBAG - Exposición permanente "El siglo XIX. La colección a la luz".
DESCRIPTION:[vc_row][vc_column width=»1/2″][vc_column_text]El próximo sábado 14 de junio a las 13:00h. tenemos el placer de invitaros a una visita guiada al MUBAG para ver la exposición permanente: El siglo XIX. La colección a la luz. \nEsta visita ha sido propuesta y organizada por nuestra querida amiga y secretaria de la asociación Mirna Pol.[/vc_column_text][vc_column_text]El siglo XIX. La colección a la luz rinde homenaje a los artistas vinculados a Alicante\, cuyas obras marcaron el inicio de la colección artística. De Antonio Gisbert\, Joaquín Agrasot\, Emilio Sala\, Lorenzo Casanova o Fernando Cabrera\, se ha incrementado el fondo expuesto gracias a la colaboración con la Colección de Arte Banco Sabadell y del Museo Nacional del Prado\, institución que ha permitido enriquecer la muestra con pinturas relevantes de otros artistas como Cecilio Pla\, Manuel Benedito o Luis García\, que se muestra por vez primera en el MUBAG.\nA través de más de ochenta obras\, entre pinturas\, esculturas y arte suntuario de una treintena de artistas\, esta exposición plantea un amplio recorrido por las numerosas y diversas temáticas que se desarrollan en el panorama artístico español del siglo XIX\, reflejo de las tendencias estéticas internacionales y del gusto de la sociedad del momento\, entre las que predomina el género de historia\, el realismo social\, el retrato\, el costumbrismo y la culminación de una pintura moderna pintada al aire libre.\nEl discurso se divide en siete ámbitos: La imagen de Alicante\, el puerto; El viaje como aprendizaje; El pasado rescatado; La pintura\, testigo social; El retrato como símbolo social; Hacia el cambio de siglo; y\, La emoción en torno al rostro. Temáticas que se completan con piezas audiovisuales que ahondan en la evolución de la ciudad\, las pensiones de pintura\, el trabajo\, la mujer y la fascinación por Oriente. \n  \nAlicante\, la ciudad pintada  \n  \nNáufragos y náufragas \n  \nLa pensión a Roma \n  \nAntonio Gisbert\, un capítulo en la historia \n  \nLeticia Bosch-Labrús\, duquesa de Dúrcal \n  \nComisario/a: Mª José Gadea Capó\, María Gazabat Barbado y Jorge A. Soler Díaz \n¡NO TE LA PIERDAS\, RESERVA TU PLAZA![/vc_column_text][/vc_column][vc_column width=»1/2″][vc_column_text]ROGAMOS MÁXIMA PUNTUALIDAD \nEncuentro en el interior del MUBAG (C/Gravina\, 13-15) a las 12:55h\nInicio de la visita a las 13:00h \nAFORO MÁXIMO PARA VISITA 20 PERSONAS (por riguroso orden de inscripción)[/vc_column_text][vc_column_text]Evento GRATUITO[/vc_column_text][vc_column_text]IMPRESCINDIBLE RESERVAR:[/vc_column_text]\n\n    \n    \n      \n      \n        \n  \n\n\n\n\n\n\n\n\n\n\n\n\n\n\nHe leído y acepto la política de privacidad de Asociación CompARTE\n\n \n        \n\n    \n    \n\n   [/vc_column][/vc_row]
URL:https://www.compartealicante.com/evento/visita-guiada-al-mubag-exposicion-permanente-el-siglo-xix-la-coleccion-a-la-luz/
LOCATION:MUBAG\, Calle Gravina\, 13-15\, Alicante\, Alicante\, 03002\, España
CATEGORIES:Visita Museos
ATTACH;FMTTYPE=image/png:https://www.compartealicante.com/wp-content/uploads/2025/06/visita_guida_mubag_exposicion_permanente-4-1.png
END:VEVENT
END:VCALENDAR