BEGIN:VCALENDAR
VERSION:2.0
PRODID:-//CompARTE Alicante · Asociación Cultural - ECPv5.3.2.1//NONSGML v1.0//EN
CALSCALE:GREGORIAN
METHOD:PUBLISH
X-WR-CALNAME:CompARTE Alicante · Asociación Cultural
X-ORIGINAL-URL:https://www.compartealicante.com
X-WR-CALDESC:Eventos para CompARTE Alicante · Asociación Cultural
BEGIN:VTIMEZONE
TZID:Europe/Madrid
BEGIN:DAYLIGHT
TZOFFSETFROM:+0100
TZOFFSETTO:+0200
TZNAME:CEST
DTSTART:20240331T010000
END:DAYLIGHT
BEGIN:STANDARD
TZOFFSETFROM:+0200
TZOFFSETTO:+0100
TZNAME:CET
DTSTART:20241027T010000
END:STANDARD
END:VTIMEZONE
BEGIN:VEVENT
DTSTART;TZID=Europe/Madrid:20241007T191500
DTEND;TZID=Europe/Madrid:20241007T204500
DTSTAMP:20260425T043239
CREATED:20240917T150006Z
LAST-MODIFIED:20240917T175227Z
UID:6219-1728328500-1728333900@www.compartealicante.com
SUMMARY:Curso 2024/2025 del Coro CompARTE y ¡Canta!- dirigido por Teresa Hernández
DESCRIPTION:[vc_row][vc_column width=»1/2″][vc_column_text]¡Canta\, descubre tu voz y diviértete! \nEl próximo lunes 7 de octubre\, iniciamos el curso 2024/2025 del coro compARTE y ¡Canta!\, de la mano de nuestra amiga\, socia y directora del coro Teresa Hernández. \nTeresa Hernández cantante e intérprete de piano\, es Diplomada en Magisterio de Música (Universidad Autónoma de Madrid) y Licenciada en Historia y ciencias de la música (Universidad Complutense de Madrid) Grado Profesional de conservatorio.[/vc_column_text][vc_column_text]El objetivo del curso es mejorar la técnica vocal\, afinación y el aprendizaje de un mínimo de 8 temas en todo el ejercicio. \n¿Por qué unirte al Coro Comparte? \n\nDescubre tu voz: Desarrolla tu potencial vocal con ejercicios  y técnicas profesionales.\nConecta con otros amantes de la música: Forma parte de una comunidad donde compartir tu pasión.\nAmplía tu repertorio musical: Aprende canciones de diversos géneros y estilos\, desde clásicos hasta ritmos actuales.\nReduce el estrés y mejora tu bienestar: Cantar es una excelente terapia para liberar tensiones y mejorar tu estado de ánimo.\nAprende de una profesional: Teresa Hernández\, con su amplia experiencia\, te guiará en tu aprendizaje musical.\nUn ambiente acogedor y familiar: Un espacio donde la música y la amistad se unen.\n\n¿Qué te ofrecemos? \n\nClases dinámicas y divertidas: Calentamiento vocal\, ejercicios de afinación\, ritmos y mucho más.\nUn repertorio variado: Exploraremos diferentes estilos musicales para todos los gustos.\nUn evento final para mostrar lo que has aprendido.\n\n¿A quién va dirigido? \n\nA todas las personas apasionadas por la música\, sin importar su nivel de experiencia.\nA quienes buscan un espacio para expresarse y conectar con otros.\nA aquellos que desean mejorar su técnica vocal y ampliar su repertorio musical.\n\n¿Qué necesitas para participar? \n\nGanas de cantar: ¡La actitud es lo más importante!\nCompromiso de asistencia: Asistir al menos al 80% de las sesiones.\n\n¡No lo dudes\, y apúntate!  Canta\, sueña\, disfruta.  \n[/vc_column_text][/vc_column][vc_column width=»1/2″][vc_column_text]ROGAMOS MÁXIMA PUNTUALIDAD \nApertura de puertas 15 minutos antes de cada sesión \nLos lunes laborables de Octubre a Junio de 19:15h a 20:45h.[/vc_column_text][vc_column_text]Precio: 30€ por persona (cada 4 sesiones). La actividad se abona directamente a la formadora y directora del coro \nNúmero de asistentes: mínimo 12 y máximo 32 (por riguroso orden de inscripción).[/vc_column_text][vc_column_text]IMPRESCINDIBLE RESERVAR:[/vc_column_text]\n\n    \n    \n      \n      \n        \n  \n\n\n\n\n\n\n\n\n\n\n\n\n\n\nHe leído y acepto la política de privacidad de Asociación CompARTE\n\n \n        \n\n    \n    \n\n   [/vc_column][/vc_row]
URL:https://www.compartealicante.com/evento/curso-2024-2025-del-coro-comparte-dirigido-por-teresa-hernandez/
CATEGORIES:Talleres
ATTACH;FMTTYPE=image/png:https://www.compartealicante.com/wp-content/uploads/2024/09/coro-3-1.png
END:VEVENT
END:VCALENDAR