BEGIN:VCALENDAR
VERSION:2.0
PRODID:-//CompARTE Alicante · Asociación Cultural - ECPv5.3.2.1//NONSGML v1.0//EN
CALSCALE:GREGORIAN
METHOD:PUBLISH
X-WR-CALNAME:CompARTE Alicante · Asociación Cultural
X-ORIGINAL-URL:https://www.compartealicante.com
X-WR-CALDESC:Eventos para CompARTE Alicante · Asociación Cultural
BEGIN:VTIMEZONE
TZID:Europe/Madrid
BEGIN:DAYLIGHT
TZOFFSETFROM:+0100
TZOFFSETTO:+0200
TZNAME:CEST
DTSTART:20250330T010000
END:DAYLIGHT
BEGIN:STANDARD
TZOFFSETFROM:+0200
TZOFFSETTO:+0100
TZNAME:CET
DTSTART:20251026T010000
END:STANDARD
END:VTIMEZONE
BEGIN:VEVENT
DTSTART;TZID=Europe/Madrid:20250525T093000
DTEND;TZID=Europe/Madrid:20250525T130000
DTSTAMP:20260424T154933
CREATED:20250512T091012Z
LAST-MODIFIED:20250521T141321Z
UID:7322-1748165400-1748178000@www.compartealicante.com
SUMMARY:[CANCELADO] Nuevo taller de pintura con JOSÉ CEREZO
DESCRIPTION:[vc_row][vc_column width=»1/2″][vc_column_text]El taller programado para el domingo 24 de mayo se ha cancelado por falta de inscripción.  \nTenemos el placer de anticipar un nuevo Taller de Pintura\, programado para el domingo 25 de mayo a las 9:30h\, a cargo de José Cerezo\, socio de compARTE y pintor artístico de reconocido prestigio.[/vc_column_text][vc_column_text]Ya anunciado en nuestra asamblea general de socios celebrada en enero de la realización de una nueva jornada para pintar con José Cerezo. Hemos realizado varias ediciones de este taller con mucho éxito y buenas valoraciones por parte de los asistentes. Este taller lo realizaremos en un ambiente inmejorable para ello\,  su estupendo atelier en San Vicente del Raspeig. \nA lo largo de una mañana\, llevaremos a cabo la realización de un cuadro\, sin necesidad de haberlo hecho antes. Este año\, nos planteará el reto de pintar la silla de Gauguin o la silla vacía de Vicent Van Gogh\, donde disfrutaremos del postimpresionismo de la mano del artista José Cerezo con una amplia trayectoria profesional en el ámbito de la pintura\, como artista y también como docente. \nEn la jornada y de la mano del artista\, podremos conocer brevemente el encajado y desarrollo de la técnica de acrílico sobre lienzo. Fundir\, seco sobre seco\, posibilidad de veladuras etc. \nJosé Cerezo\, prestigioso pintor de nuestra tierra\, con una extensa obra\, reconocido y galardonado\, destacar «»el tratamiento de la luz\, transparencia y color en sus óleos y acuarelas\, impresionando con el realismo de sus grafitos y tintas. El artista lleva impartiendo clases de pintura en su Escuela Taller José Cerezo desde 2001» \nVisita su obra en este enlace[/vc_column_text][vc_column_text]OBJETIVOS: \nSalir del taller con una pintura realizada por nosotros mismos.\nConocer bases para bocetar\nColorear con pintura acrílica\nDisfrutar en buena compañía \nAdemás\, disfrutaremos durante la mañana de un refrigerio o vermú y compartiendo la tarea con un grupo de entre 10 y 15 personas. \nNo te pierdas esta oportunidad de disfrutar con esta disciplina artística\, con un excelente y didáctico profesional. \nSolo tendrás que presentarte con ganas de disfrutar. Si te interesa ¡apúntante![/vc_column_text][/vc_column][vc_column width=»1/2″][vc_column_text]ROGAMOS MÁXIMA PUNTUALIDAD \nApertura de puertas a las 09:15h\nInicio del evento a las 09:30h \nUBICACIÓN TALLER: C. Reyes Católicos\, 86\, 03690 San Vicente del Raspeig\, Alicante[/vc_column_text][vc_column_text]Aportación socios : 36€\nAportación general: 44€ \nEl coste incluye material necesario para la actividad (lienzo\, pinturas\, esencia trementina\, etc.). El participante se lleva el disfrute-aprendizaje de la jornada y tu propio cuadro. \n[/vc_column_text][vc_column_text]IMPRESCINDIBLE RESERVAR:[/vc_column_text]\n\n    \n    \n      \n      \n        \n  \n\n\n\n\n\n\n\n\n\n\n\n\n\n\nHe leído y acepto la política de privacidad de Asociación CompARTE\n\n \n        \n\n    \n    \n\n   [/vc_column][/vc_row]
URL:https://www.compartealicante.com/evento/nuevo-taller-de-pintura-con-jose-cerezo/
LOCATION:Taller de pintura José Cerezo\, Calle Reyes Católicos\, 86\, San Vicente del Raspeig\, Alicante\, 03690\, España
CATEGORIES:Evento Cancelado,Talleres
ATTACH;FMTTYPE=image/png:https://www.compartealicante.com/wp-content/uploads/2025/05/Taller-de-Pintura-DE-CEREZO-2.png
END:VEVENT
END:VCALENDAR