BEGIN:VCALENDAR
VERSION:2.0
PRODID:-//CompARTE Alicante · Asociación Cultural - ECPv5.3.2.1//NONSGML v1.0//EN
CALSCALE:GREGORIAN
METHOD:PUBLISH
X-WR-CALNAME:CompARTE Alicante · Asociación Cultural
X-ORIGINAL-URL:https://www.compartealicante.com
X-WR-CALDESC:Eventos para CompARTE Alicante · Asociación Cultural
BEGIN:VTIMEZONE
TZID:Europe/Madrid
BEGIN:DAYLIGHT
TZOFFSETFROM:+0100
TZOFFSETTO:+0200
TZNAME:CEST
DTSTART:20250330T010000
END:DAYLIGHT
BEGIN:STANDARD
TZOFFSETFROM:+0200
TZOFFSETTO:+0100
TZNAME:CET
DTSTART:20251026T010000
END:STANDARD
END:VTIMEZONE
BEGIN:VEVENT
DTSTART;TZID=Europe/Madrid:20250627T193000
DTEND;TZID=Europe/Madrid:20250627T210000
DTSTAMP:20260424T135756
CREATED:20250613T132255Z
LAST-MODIFIED:20250613T132356Z
UID:7552-1751052600-1751058000@www.compartealicante.com
SUMMARY:Laboratorio de Narración Escénica\, “El Arte de Contar” conducido por Coral Pastor
DESCRIPTION:[vc_row][vc_column width=»1/2″][vc_column_text]Tenemos el placer de comunicaros que el próximo viernes 27 de junio a las 19:30 h. realizamos la primera sesión de un total de tres del Laboratorio de NARRACIÓN ESCÉNICA «El Arte de Contar» conducido por  Coral Pastor\, experta en comunicación y oratoria;  creadora de su propia metodología ha desarrollado proyectos para comunicación\, música\, teatro\, cine y televisión. \nEl objetivo de este laboratorio es contar historias mejorando el acto comunicativo aprovechando herramientas artísticas.[/vc_column_text][vc_column_text]El venerable ejercicio de contar historias ofrece un enriquecedor resultado artístico\, terapéutico\, comunicativo y de disfrute. La Narración es un proceso cognitivo mediante el cual quien cuenta traduce sus representaciones mentales\, ideas\, pensamientos\, sentimientos e impresiones en discurso hablado con el objeto de transmitirlo a una audiencia de manera comprensible y para el logro de determinada intención u objetivo. \nVamos a contar sucesos\, historias vividas o inventadas\, cuentos\, relatos breves\, retazos de la tradición oral… bajo el foco de la concentración\, atención y energía grupal. \nEl arte de contar como un ritual con su puerta de entrada y salida\, la información encriptada en el lenguaje simbólico… En definitiva\, incrementar nuestro conocimiento y experiencia sobre el valor de la palabra a través de la Narración. \nCORAL PASTOR \nAlicantina de origen e internacional de espíritu\, formada en La escuela de Arte Dramático de Valencia. \nSu interés por continuar formándose en la biomecánica y el teatro como instrumento social de reflexión y provocación le conduce a vivir experiencias con maestros como Augusto Boal (Brasil)\, Rui Frati  (Francia)\, Roberto Frati (Francia)\, Roberto Vega (Argentina)\, Eugenio Barba (Odin Teatret-Dinamarca)\, Stephan Schulberg (Living Theatre – Italia) entre otros. \nDesarrollando su trayectoria en multitud de producciones artísticas\, actriz\, presentadora\, entrevistadora y en escenarios y medios distintos (cine\, prensa\, radio\, televisión\, teatro) \, es creadora de su propia metodología para transmitir sus conocimientos y experiencias \nCon sus propias palabras:\n“En 1995\, en gira por Colombia con Las Viajeras y el espectáculo Colinas Huecas\, ya fuera en espacios sin límite y otros más intimistas\, ante un público deseoso de escuchar narrar\, sentí eso que Tolkien describe como la puerta en la región de las hadas donde podemos suspender voluntariamente la racionalidad para entrar en otro estado psíquico fundamental; el encantamiento” \n[/vc_column_text][vc_column_text]DESCARGAR DOCUMENTACIÓN BIOGRÁFICA DE CORAL PASTOR[/vc_column_text][vc_column_text]CALENDARIO DEL LABORATORIO DE NARRACIÓN ESCÉNICA\, “El arte de Contar” \n  \nLaboratorio constará de 3 sesiones de 90 minutos cada una (4:30 horas en total). \nViernes\, 27 de junio de 19:30 a 21:00h\nViernes\, 4 de julio de 19:30 a 21:00h\nViernes\, 11 de julio de 19:30 a 21:00h \n  \nREQUISITOS \nRopa y calzado cómodo \nPapel/cuaderno de notas[/vc_column_text][/vc_column][vc_column width=»1/2″][vc_column_text]ROGAMOS MÁXIMA PUNTUALIDAD \nApertura de puertas 15 minutos antes de cada sesión \nViernes 27 de junio de 19:30 a 21:00\nViernes 4 de julio de 19:30 a 21:00\nViernes 11 de julio de 19:30 a 21:00 \n[/vc_column_text][vc_column_text]Aportación Socios: 52€\nAportación General : 58€ \nPlazas limitadas  \n  \nLaboratorio completo: 3 sesiones de 90 minutos cada una (4:30 horas en total)[/vc_column_text][vc_column_text]IMPRESCINDIBLE RESERVAR:[/vc_column_text]\n\n    \n    \n      \n      \n        \n  \n\n\n\n\n\n\n\n\n\n\n\n\n\n\nHe leído y acepto la política de privacidad de Asociación CompARTE\n\n \n        \n\n    \n    \n\n   [/vc_column][/vc_row]
URL:https://www.compartealicante.com/evento/laboratorio-de-narracion-escenica-el-arte-de-contar-conducido-por-coral-pastor/
LOCATION:SEDE ASOCIACIÓN compARTE – SALA TOLÓN TELL ON\, Carrer Gastón Castelló\, 4\, El Campello\, Alicante\, 03560\, España
CATEGORIES:Talleres
ATTACH;FMTTYPE=image/png:https://www.compartealicante.com/wp-content/uploads/2025/06/laboratorio-de-narracion-escenica-el-arte-de-contar-2-1.png
END:VEVENT
END:VCALENDAR