BEGIN:VCALENDAR
VERSION:2.0
PRODID:-//CompARTE Alicante · Asociación Cultural - ECPv5.3.2.1//NONSGML v1.0//EN
CALSCALE:GREGORIAN
METHOD:PUBLISH
X-WR-CALNAME:CompARTE Alicante · Asociación Cultural
X-ORIGINAL-URL:https://www.compartealicante.com
X-WR-CALDESC:Eventos para CompARTE Alicante · Asociación Cultural
BEGIN:VTIMEZONE
TZID:Europe/Madrid
BEGIN:DAYLIGHT
TZOFFSETFROM:+0100
TZOFFSETTO:+0200
TZNAME:CEST
DTSTART:20250330T010000
END:DAYLIGHT
BEGIN:STANDARD
TZOFFSETFROM:+0200
TZOFFSETTO:+0100
TZNAME:CET
DTSTART:20251026T010000
END:STANDARD
END:VTIMEZONE
BEGIN:VEVENT
DTSTART;TZID=Europe/Madrid:20251213T110000
DTEND;TZID=Europe/Madrid:20251213T133000
DTSTAMP:20260422T173217
CREATED:20251128T162022Z
LAST-MODIFIED:20251128T171959Z
UID:8146-1765623600-1765632600@www.compartealicante.com
SUMMARY:Taller de elaboración de turrón y charla sobre los aditivos alimentarios 2025
DESCRIPTION:[vc_row][vc_column width=»1/2″][vc_column_text]Tenemos el placer de invitaros a participar nuevamente en el goloso y navideño Taller de elaboración de turrones. Aprende comiendo. En esta ocasión lo hemos programado para el 13 de diciembre a las 11:00h\, impartirá el taller Óscar Gutiérrez\, socio y vocal de compARTE.[/vc_column_text][vc_column_text]Charla formativa sobre como interpretar la etiqueta nutricional de los alimentos. \n\nComparar la tabla de alimentos.\nConocer los principales aditivos alimentarios y cuáles son los más imprescindibles y cuáles son “decorativos”\n\nTaller  \nDiviértete fabricando tu propio turrón a la piedra. Conocer su composición y propiedades. Elaborar turrón de yema. Aprender a hacer la yema tostada \n¡Cada participante podrá llevarse a casa turrón a la piedra que haya elaborado! \n[/vc_column_text][vc_column_text]Para realizar este taller tenéis que traer los siguientes materiales: \nBolígrafo\, táper de 750-1000 ml\, bol de 1-2 litros y cucharón. Ganas de reírse y de remover. Además te llevarás tu turrón. \n¡INSCRÍBETE Y NO TE LO PIERDAS! \n[/vc_column_text][/vc_column][vc_column width=»1/2″][vc_column_text]ROGAMOS MÁXIMA PUNTUALIDAD \nApertura de puertas a las 10:45h\nInicio del evento a las 11:00h[/vc_column_text][vc_column_text]Aportación socios: 10€ \nAportación general: 14€ \nEl coste incluye la materia prima para la elaboración del turrón a la piedra. El participante se lleva el disfrute-aprendizaje de la jornada y su propio turrón. \nEl pago de la actividad lo podrás hacer el día del taller a la persona responsable. \nSolo tendrás que presentarte con ganas de disfrutar. Si te interesa ¡apúntante![/vc_column_text][vc_column_text]IMPRESCINDIBLE RESERVAR:[/vc_column_text]\n\n    \n    \n      \n      \n        \n  \n\n\n\n\n\n\n\n\n\n\n\n\n\n\nAdjunta certificado \nHe leído y acepto la política de privacidad de Asociación CompARTE\n\n \n        \n\n    \n    \n\n   [/vc_column][/vc_row]
URL:https://www.compartealicante.com/evento/taller-de-elaboracion-de-turron-y-charla-sobre-los-aditivos-alimentarios-2025/
LOCATION:SEDE ASOCIACIÓN compARTE – SALA TOLÓN TELL ON\, Carrer Gastón Castelló\, 4\, El Campello\, Alicante\, 03560\, España
CATEGORIES:Talleres
ATTACH;FMTTYPE=image/png:https://www.compartealicante.com/wp-content/uploads/2025/11/taller-turron-y-aditivos-2025-1-1-1-1-1.png
END:VEVENT
END:VCALENDAR